﻿BEGIN:VCALENDAR
VERSION:2.0
PRODID:-//Educación Neuquén - ECPv6.15.8//NONSGML v1.0//EN
CALSCALE:GREGORIAN
METHOD:PUBLISH
X-WR-CALNAME:Educación Neuquén
X-ORIGINAL-URL:https://www.neuquen.edu.ar
X-WR-CALDESC:Eventos para Educación Neuquén
REFRESH-INTERVAL;VALUE=DURATION:PT1H
X-Robots-Tag:noindex
X-PUBLISHED-TTL:PT1H
BEGIN:VTIMEZONE
TZID:America/Argentina/Cordoba
BEGIN:STANDARD
TZOFFSETFROM:-0300
TZOFFSETTO:-0300
TZNAME:-03
DTSTART:20210101T000000
END:STANDARD
END:VTIMEZONE
BEGIN:VEVENT
DTSTART;VALUE=DATE:20221022
DTEND;VALUE=DATE:20221023
DTSTAMP:20260421T220726
CREATED:20221003T151019Z
LAST-MODIFIED:20221003T151019Z
UID:29309-1666396800-1666483199@www.neuquen.edu.ar
SUMMARY:Día Nacional por el Derecho a la Identidad
DESCRIPTION:La fecha fue establecida por el Congreso Nacional a través de la Ley 26.001 en el 2004 con el objetivo de conmemorar la lucha de las Abuelas de Plaza de Mayo en su tarea de recuperación de los niños secuestrados por la última dictadura militar. \nEl Calendario Escolar establece esta fecha como Día de la Identidad y fija como objetivo para todos los niveles\, reconocer el derecho de la identidad y su preservación como derecho humano fundamental; identificar las diferentes formas de lucha de la sociedad para recuperar la identidad de aquellos a quienes les fue negada; promover actitudes de respeto hacia las organizaciones de la sociedad civil que defienden el derecho a la identidad; promover acciones de participación tendientes a desarrollar una actitud crítica sobre el derecho a la identidad en niños\, jóvenes y adultos; valorar el derecho a la documentación como portadora de la identidad nacional.
URL:https://www.neuquen.edu.ar/event/dia-nacional-por-el-derecho-a-la-identidad/
CATEGORIES:Efemérides
ATTACH;FMTTYPE=image/jpeg:https://www.neuquen.edu.ar/wp-content/uploads/2022/10/22_Dia-Nacional-por-el-derecho-a-la-Identidad-WEB.jpg
END:VEVENT
END:VCALENDAR