﻿BEGIN:VCALENDAR
VERSION:2.0
PRODID:-//Educación Neuquén - ECPv6.15.8//NONSGML v1.0//EN
CALSCALE:GREGORIAN
METHOD:PUBLISH
X-ORIGINAL-URL:https://www.neuquen.edu.ar
X-WR-CALDESC:Eventos para Educación Neuquén
REFRESH-INTERVAL;VALUE=DURATION:PT1H
X-Robots-Tag:noindex
X-PUBLISHED-TTL:PT1H
BEGIN:VTIMEZONE
TZID:America/Argentina/Cordoba
BEGIN:STANDARD
TZOFFSETFROM:-0300
TZOFFSETTO:-0300
TZNAME:-03
DTSTART:20210101T000000
END:STANDARD
END:VTIMEZONE
BEGIN:VEVENT
DTSTART;VALUE=DATE:20221016
DTEND;VALUE=DATE:20221017
DTSTAMP:20260421T221155
CREATED:20221003T144250Z
LAST-MODIFIED:20221003T144250Z
UID:29297-1665878400-1665964799@www.neuquen.edu.ar
SUMMARY:Día de la familia
DESCRIPTION:
URL:https://www.neuquen.edu.ar/event/dia-de-la-familia/
CATEGORIES:Efemérides
ATTACH;FMTTYPE=image/jpeg:https://www.neuquen.edu.ar/wp-content/uploads/2022/10/16_Dia-de-la-familia-WEB.jpg
END:VEVENT
BEGIN:VEVENT
DTSTART;VALUE=DATE:20221016
DTEND;VALUE=DATE:20221017
DTSTAMP:20260421T221155
CREATED:20221003T144537Z
LAST-MODIFIED:20221003T145154Z
UID:29300-1665878400-1665964799@www.neuquen.edu.ar
SUMMARY:Día Mundial de la Alimentación
DESCRIPTION:En 1979\, la Organización de las Naciones Unidas para la Alimentación y la Agricultura (FAO) designó esta fecha en sintonía con la fundación de la FAO en 1945 con el objetivo de generar conciencia en la población mundial y exhortar a los gobiernos del mundo a fortalecer y comprometerse con la lucha del problema alimenticio mundial\, de modo que el hambre\, la desnutrición y la pobreza que impera en algunas regiones del mundo\, pueda combatirse y erradicarse. \nPara esta jornada\, más de 150 países de todo el mundo organizan eventos destinados a informar sobre la importancia y urgencia que implica la lucha contra el hambre\, como también sobre la necesidad de garantizar producciones sanas de alimentos\, es decir\, producciones que en sus afanes por obtener mayores cantidades no descuiden la conservación de nutrientes ni la aplicación de fertilizantes o pesticidas que puedan atentar contra la salud humana\, ya sea a inmediato\, mediano o largo plazo. \nEn el año 2014\,  los Miembros de la FAO\, parlamentarios\, miembros de la sociedad civil\, y el sector privado aprobaron la Declaración de Roma sobre la Nutrición y el Marco de acción que consagra el derecho de toda persona a tener acceso a alimentos inocuos\, suficientes y nutritivos\, y compromete a los gobiernos a prevenir la malnutrición en todas sus formas. El Marco de Acción reconoce que los gobiernos tienen el papel y la responsabilidad principal de abordar los problemas y desafíos de la nutrición.
URL:https://www.neuquen.edu.ar/event/dia-mundial-de-la-alimentacion/
CATEGORIES:Efemérides
ATTACH;FMTTYPE=image/jpeg:https://www.neuquen.edu.ar/wp-content/uploads/2022/10/16_Dia-mundial-de-la-alimentacion-WEB.jpg
END:VEVENT
BEGIN:VEVENT
DTSTART;VALUE=DATE:20221016
DTEND;VALUE=DATE:20221017
DTSTAMP:20260421T221155
CREATED:20221003T145848Z
LAST-MODIFIED:20221003T145848Z
UID:29303-1665878400-1665964799@www.neuquen.edu.ar
SUMMARY:Establecimiento del Territorio Nacional del Neuquén
DESCRIPTION:
URL:https://www.neuquen.edu.ar/event/establecimiento-del-territorio-nacional-del-neuquen/
CATEGORIES:Efemérides
ATTACH;FMTTYPE=image/jpeg:https://www.neuquen.edu.ar/wp-content/uploads/2022/10/16_Establecimiento-del-territorio-nacional-del-neuquen-WEB.jpg
END:VEVENT
END:VCALENDAR