﻿BEGIN:VCALENDAR
VERSION:2.0
PRODID:-//Educación Neuquén - ECPv6.15.8//NONSGML v1.0//EN
CALSCALE:GREGORIAN
METHOD:PUBLISH
X-ORIGINAL-URL:https://www.neuquen.edu.ar
X-WR-CALDESC:Eventos para Educación Neuquén
REFRESH-INTERVAL;VALUE=DURATION:PT1H
X-Robots-Tag:noindex
X-PUBLISHED-TTL:PT1H
BEGIN:VTIMEZONE
TZID:America/Argentina/Cordoba
BEGIN:STANDARD
TZOFFSETFROM:-0300
TZOFFSETTO:-0300
TZNAME:-03
DTSTART:20210101T000000
END:STANDARD
END:VTIMEZONE
BEGIN:VEVENT
DTSTART;VALUE=DATE:20221015
DTEND;VALUE=DATE:20221016
DTSTAMP:20260421T221317
CREATED:20221003T143328Z
LAST-MODIFIED:20221003T144015Z
UID:29278-1665792000-1665878399@www.neuquen.edu.ar
SUMMARY:Día de la acción global sobre educación para el consumo sustentable
DESCRIPTION:La conmemoración de esta fecha fue impulsada por la organización Consumers International\, con el fin de promover la integración de la enseñanza de consumo sustentable en los planes curriculares formales de las escuelas de cada país. \nEl objetivo principal de este día es apoyar la incorporación de la educación para el consumo y los estilos de vida sostenibles\, en los programas de educación formal y fomentar e impulsar políticas públicas para que se desarrollen dichas prácticas en las escuelas de cada uno de los países a nivel nacional y local. \nEl consumo sustentable es un cambio de hábitos\, para que nuestros consumos no impacten negativamente ni el medioambiente ni en la sociedad.
URL:https://www.neuquen.edu.ar/event/dia-de-la-accion-global-sobre-educacion-para-el-consumo-sustentable/
CATEGORIES:Efemérides
ATTACH;FMTTYPE=image/jpeg:https://www.neuquen.edu.ar/wp-content/uploads/2022/10/15_Dia-de-la-accion-global-sobre-educacion-para-el-consumo-sustentable-WEB.jpg
END:VEVENT
BEGIN:VEVENT
DTSTART;VALUE=DATE:20221015
DTEND;VALUE=DATE:20221016
DTSTAMP:20260421T221317
CREATED:20221003T143504Z
LAST-MODIFIED:20221003T143952Z
UID:29281-1665792000-1665878399@www.neuquen.edu.ar
SUMMARY:Día de la cooperación escolar
DESCRIPTION:Esta fecha se conmemora en homenaje a la creación de las Juntas Protectoras\, un lejano antecedente de las cooperadoras escolares actuales. La primera junta vecinal de ayuda a las escuelas se fundó el 15 de octubre de 1816\, en la frontera de Chascomús (Buenos Aires). \nEn las Asociaciones Cooperadoras no tienen cabida las acciones o esfuerzos individualistas. Su mismo nombre lo indica COOPERAR\, operar en grupo o equipo\, mancomunadamente\, para poder superar las dificultades y satisfacer las demandas de la institución. Esta conciencia y comportamiento de Equipo\, es super enriquecedor.
URL:https://www.neuquen.edu.ar/event/dia-de-la-cooperacion-escolar/
CATEGORIES:Efemérides
ATTACH;FMTTYPE=image/jpeg:https://www.neuquen.edu.ar/wp-content/uploads/2022/10/15_Dia-de-la-cooperacion-escolar-WEB.jpg
END:VEVENT
BEGIN:VEVENT
DTSTART;VALUE=DATE:20221015
DTEND;VALUE=DATE:20221016
DTSTAMP:20260421T221317
CREATED:20221003T143614Z
LAST-MODIFIED:20221003T143833Z
UID:29284-1665792000-1665878399@www.neuquen.edu.ar
SUMMARY:Día Internacional de las Mujeres Rurales
DESCRIPTION:El primer Día Internacional de las Mujeres Rurales se celebró el 15 de octubre de 2008. Fue establecido por la Asamblea General en su resolución 62/136 con el objetivo de reconocer «la función y contribución decisivas de la mujer rural\, incluida la mujer indígena\, en la promoción del desarrollo agrícola y rural\, la mejora de la seguridad alimentaria y la erradicación de la pobreza rural». \nCon ese motivo\, la resolución pide a los Estados Miembros que\, en colaboración con las organizaciones de las Naciones Unidas y la sociedad civil\, continúen esforzándose por aplicar los resultados de las conferencias y cumbres de las Naciones Unidas\, y que asignen mayor importancia al mejoramiento de la situación de las mujeres rurales en sus estrategias de desarrollo nacionales\, regionales y mundiales\, entre otras cosas: \n\nCreando un entorno propicio para mejorar la situación de las mujeres rurales y asegurando que se preste atención sistemática a sus necesidades\, prioridades y contribuciones;\nProcurando el empoderamiento político y socioeconómico de las mujeres rurales y apoyando su participación plena e igualitaria en la adopción de decisiones a todos los niveles;\nPromoviendo las consultas con las mujeres rurales\, en particular las mujeres indígenas y las mujeres con discapacidad\, y su participación;\nAsegurando que se tenga en cuenta la perspectiva de las mujeres rurales y que éstas participen en la formulación\, aplicación\, seguimiento y evaluación de las políticas y actividades relacionadas con las situaciones de emergencia;\nIntegrando la perspectiva de género en la formulación\, aplicación\, seguimiento y evaluación de políticas y programas de desarrollo;\nDedicando inversiones y esfuerzos renovados a satisfacer las necesidades básicas de la mujer rural mediante un aumento de la disponibilidad\, la accesibilidad y la utilización de las infraestructuras rurales fundamentales;\nAtendiendo a las necesidades específicas de las mujeres rurales en materia de salud y tomando medidas concretas para proporcionar y mejorar el acceso de las mujeres de las zonas rurales a los más altos niveles posibles de salud;\nFormulando y aplicando políticas nacionales que promuevan y protejan el disfrute por las mujeres y las niñas del medio rural de todos los derechos humanos y libertades fundamentales y creando un entorno que no tolere las violaciones de sus derechos;\nAsegurando que se tengan en cuenta los derechos de las mujeres de edad de las zonas rurales en lo que respecta a la igualdad de acceso a los servicios y recursos;\nPreparando programas concretos de asistencia y servicios de asesoramiento para promover las aptitudes de la mujer rural en el ámbito económico;\nMovilizando recursos\, incluso a nivel nacional y mediante la asistencia oficial para el desarrollo\, a fin de aumentar el acceso de las mujeres a los planes de ahorro y crédito existentes;\nIntegrando mayores oportunidades de empleo para las mujeres rurales en todas las estrategias de desarrollo y las estrategias de erradicación de la pobreza a nivel internacional y nacional;\nTomando medidas para asegurar que se reconozcan el trabajo no remunerado de las mujeres y sus contribuciones a la producción dentro y fuera de las explotaciones agrícolas;\nPromoviendo programas que permitan a las mujeres y los hombres del medio rural compaginar su trabajo con las responsabilidades familiares y alienten a los hombres a compartir las tareas domésticas y el cuidado de los hijos por igual con las mujeres;\nConsiderando la posibilidad de adoptar\, cuando proceda\, legislación nacional para proteger los conocimientos\, las innovaciones y las prácticas de las mujeres de las comunidades indígenas y locales en materia de medicina tradicional\, diversidad biológica y tecnologías indígenas;\nPrestando atención a la falta de datos actualizados\, fidedignos y desglosados por sexo\, incluso haciendo mayores esfuerzos para que el trabajo no remunerado de la mujer figure en las estadísticas oficiales;\nPreparando y revisando leyes para asegurar que\, donde exista la propiedad privada de la tierra y otros bienes\, la mujer rural disfrute de plena igualdad de derechos al respecto;\nApoyando un sistema educativo que tenga en cuenta las cuestiones de género y las necesidades específicas de las mujeres rurales con el fin de eliminar los estereotipos de género y las tendencias discriminatorias que les afectan.\nhttps://www.un.org/es/events/ruralwomenday/background.shtml
URL:https://www.neuquen.edu.ar/event/dia-internacional-de-las-mujeres-rurales/
CATEGORIES:Efemérides
ATTACH;FMTTYPE=image/jpeg:https://www.neuquen.edu.ar/wp-content/uploads/2022/10/15_Dia-Internacional-de-las-mujeres-rurales-WEB.jpg
END:VEVENT
BEGIN:VEVENT
DTSTART;VALUE=DATE:20221015
DTEND;VALUE=DATE:20221016
DTSTAMP:20260421T221317
CREATED:20221003T143724Z
LAST-MODIFIED:20221003T144033Z
UID:29287-1665792000-1665878399@www.neuquen.edu.ar
SUMMARY:Día Internacional del Bastón Blanco
DESCRIPTION:Este día fue instituido por representantes de todas las organizaciones e instituciones que constituyeron la Unión Mundial de Ciegos (UMC)\, en París en 1980\, quienes destacaron la importancia de establecer una fecha que hiciera alusión al bastón blanco como símbolo de independencia\, igualdad de oportunidades e inclusión en todos los ámbitos de la sociedad. \nEl bastón blanco es una vara ligera y alargada que identifica a las personas ciegas​y les sirve de guía para desplazarse de manera autónoma por la vía pública. ​Esta herramienta tiene tres características básicas: distintivo\, protección e información. \n“El Bastón blanco o “Bastón blanco para ciegos” es un invento creado por el político e inventor argentino José Mario Fallótico (invento argentino\, patentado por estadounidense). \nCuentan los historiadores que el mediodía del 22 de junio de 1921\, Fallótico vio a una persona\, a la cual entendió que se trataba de un ciego\, que se encontraba esperando para cruzar en la esquina de la calle Medrano y Lezica de la Ciudad de Buenos Aires. Fallótico ayudó al discapacitado\, pero quedó obsesionado con una pregunta: ¿Cómo hacer para distinguir a un ciego y poder ayudarlo? \nLa idea siguió a este santafesino\, que por aquel entonces vivía en el barrio de Flores en la Ciudad de Buenos Aires\, hasta que dio con la solución que\nconsultó en la Biblioteca Argentina para Ciegos: un bastón blanco serviría para distinguirlo. \nJosé Fallótico nunca patentó su invento\, fueron los estadounidenses quienes se adueñaron de la novedad\, cuando George Benham\, presidente del Club de Leones de Illinois\, propuso para uso de los discapacitados visuales un bastón blanco con extremo inferior rojo\, a fin de que se les otorgue prioridad de paso. \nLa propuesta fue aceptada y en poco tiempo el uso de dicho elemento se hizo universal. Curiosamente los estadounidenses celebran el “Día Internacional del Bastón Blanco” (15 de octubre)\, pero desconociendo quién es el inventor.” \nDurante los primeros seis años de la década de los treinta\, fueron promulgadas diversas disposiciones legales\, primero en Illinois\, y más adelante en Detroit\, encaminadas a garantizar el tránsito libre y seguro de los peatones ciegos. En el año 1925\, la Convención Anual de la Asociación de Leones contó con la presencia de Hellen Keller\, quien sensibilizó a los presentes acerca de las dificultades que debía afrontar a diario a causa de su ceguera. Por iniciativa del Club de Leones de la Unión Americana\, durante la celebración de su Convención Internacional\, realizada en 1931 en Toronto\, Canadá\, el abogado Donald Schuur promovió el uso del Bastón Blanco entre los faltos de vista\, concebido un año atrás por George A. Benham (según indica la historia estadounidense)\, Presidente de dicha agrupación filantrópica\, llevándose a cabo una intensa campaña de información entre la ciudadanía sobre apoyo vial a los ciegos\, a\nla par de un programa de recaudación de fondos para la adquisición de bastones que serían donados a quienes así lo requirieran y tiempo después\, en 1964\, se instituyó el 15 de octubre como El Día Mundial del Bastón Blanco. \nUna vez concluída la Segunda Guerra Mundial\, se desarrollaron las técnicas de movilidad y orientación con el Bastón Blanco. Fue en el hospital de Valley\nForge Veterans en Pennsylvania\, Estados Unidos\, durante la realización de un programa de rehabilitación para militares ciegos\, donde el sargento Richard Hoover\, Director de Rehabilitación Física\, Orientación y Recreación advirtió que los carentes de vista se desplazaban con ayuda de bastones que les servían como apoyo pero que no les permitían anticipar los obstáculos que encontraban a su paso. De este modo\, creó un bastón liviano\, con un tamaño simétricamente proporcional a la estatura media de la persona. Determinó que fuera blanco con la parte inferior de color rojo\, convirtiéndose desde entonces en símbolo universal de la independencia y libertad para el desplazamiento de las personas con discapacidad visual. \nTiempo atrás\, los carentes del sentido de la vista caminaban guiados por perros previamente entrenados para conducirlos sin tropiezos\, y en otros casos\, lo hacían mediante rudimentarios bastones de madera\, apoyándose en el brazo o el hombro generoso de una persona con vista. \nTambién conocido en otras latitudes como Bastón Hoover\, generalmente se elabora con tubos de aluminio plegables entre sí mediante un resorte elástico.\nEn la parte superior\, la empuñadura es de goma\, lo cual permite tomarlo con soltura y mayor comodidad. En el extremo inferior tiene una puntilla con un deslizador metálico rodante. Además del Bastón Blanco plegable\, también existen otros modelos que son completamente rígidos y con la empuñadura curveada. \nA decir de la mayoría de los ciegos que usan el bastón plegable\, éste es más práctico porque al doblarse generalmente en cuatro tramos\, puede guardarse fácilmente dentro del portafolio\, mochila o en el cajón del escritorio; mientras que el modelo rígido\, si bien es más durable por su consistencia\, muchas veces resulta estorboso y poco funcional para la localización de obstáculos. \nEl tamaño del Bastón Blanco debe llegar a la altura del esternón\, y la medida varía de acuerdo a la estatura. Hay bastones de 1.05\, 1.10\, 1.15 y 1.20 metros.\nEn consecuencia\, un bastón corto no permite detectar a tiempo los obstáculos\, además de que origina esfuerzos innecesarios y maniobras incorrectas al momento del desplazamiento de la persona ciega\, ocasionando fatiga\, torpeza para caminar\, trastornos musculoesqueléticos\, e incluso\, caídas y tropezones.
URL:https://www.neuquen.edu.ar/event/dia-internacional-del-baston-blanco/
CATEGORIES:Efemérides
ATTACH;FMTTYPE=image/jpeg:https://www.neuquen.edu.ar/wp-content/uploads/2022/10/15_Dia-Internacional-del-baston-blanco-WEB.jpg
END:VEVENT
BEGIN:VEVENT
DTSTART;VALUE=DATE:20221015
DTEND;VALUE=DATE:20221016
DTSTAMP:20260421T221317
CREATED:20221003T144141Z
LAST-MODIFIED:20221003T144141Z
UID:29294-1665792000-1665878399@www.neuquen.edu.ar
SUMMARY:Día Mundial del lavado de manos
DESCRIPTION:La celebración de esta fecha comenzó en 2008 por iniciativa de un grupo de organizaciones internacionales nucleadas en 2001 bajo el nombre de Alianza Global y entre las que se encuentran Unicef\, USAID\, Banco Mundial y el Programa de Agua y Saneamiento. \nEl objetivo es promover el hábito del lavado de mano bajo el fundamento de que este acto es una de las formas más efectivas y económicas para prevenir enfermedades diarreicas y respiratorias. \nCinco datos clave: \n\n1.¡Lavarse las manos solamente con agua no es suficiente!\n\nLavarse las manos solamente con agua\, una práctica común alrededor del mundo\, es significativamente menos efectivo que lavarse las manos con jabón. El lavado de manos apropiado requiere jabón y una pequeña cantidad de agua. Usar jabón facilita la frotación\, lo que permite disolver la grasa y eliminar la suciedad que contienen la mayoría de los gérmenes\, además\, deja un agradable olor en las manos. Si se usan adecuadamente\, todos los jabones son igualmente efectivos para remover los gérmenes que causan enfermedades. \n\nEl lavado de manos con jabón puede evitar enfermedades que matan a millones de niñas y niños cada año.\n\nEl lavado de manos con jabón es una de las maneras más efectivas de prevenir enfermedades diarreicas y la neumonía\, que juntas son responsables de la mayoría de muertes infantiles. Cada año\, más de 3\,5 millones de niños y niñas no llegan a celebrar su quinto cumpleaños debido a la diarrea y a la neumonía. El lavado de manos también puede prevenir infecciones cutáneas\, infecciones a los ojos\, parásitos intestinales\, SRAS\, gripe aviar e influenza H1/N1\, y trae beneficios a la salud de las personas que viven con VIH/sida. La investigación demuestra que el lavado de manos es efectivo en prevenir la transmisión de enfermedades incluso en asentamientos pobres altamente poblados y contaminados. \n\nLos momentos críticos para el lavado de manos con jabón son después de usar el baño o de limpiar a un niño y antes de manipular alimentos.\n\nLas manos se deben lavar con jabón después de usar el baño\, después de limpiar las heces de un niño (o después de cualquier otro contacto con excretas humanas\, incluidas las de los bebes y niños)\, y antes de manipular alimentos. Las manos son las principales portadoras de gérmenes que causan enfermedades. Es importante asegurar que las personas tengan facilidades para lavarse las manos en esos momentos críticos. Existen soluciones simples\, de bajo costo que están dentro de las  posibilidades financieras y tecnológicas de todas las comunidades\, aún de las más pobres. \n\nEl lavado de manos con jabón es la intervención de salud de más costo – efectiva.\n\nLa promoción del lavado de manos es más eficaz y costo-efectiva\, en comparación con el financiamiento que requieren otras intervenciones de salud. Una inversión de 3\,35 dólares en el lavado de manos trae los mismos beneficios a la salud que una inversión de 11 dólares en construcción de letrinas\, o una inversión de 200 dólares en abastecimiento de agua para las viviendas\, o una inversión de miles de dólares en inmunización. La inversión en la promoción del lavado de manos con jabón también puede maximizar los beneficios a la salud de las inversiones en infraestructura de abastecimiento de agua y saneamiento y reducir los riesgos a la salud cuando las familias no tienen acceso a servicios de saneamiento básico ni de abastecimiento de agua. \n\nLos niños pueden ser agentes de cambio.\n\nCuando se trata de compartir buenas prácticas de higiene\, los niños y niñas —el segmento de la sociedad que suele ser más energético\, entusiasta y abierto a nuevas ideas— pueden actuar como agentes de cambio y transmitir las «lecciones de lavado de manos» que aprenden en la escuela a sus hogares y comunidades. La activa participación de los niños y niñas —situados idealmente en la intersección formada por el hogar\, la escuela\, y la comunidad— junto con intervenciones culturalmente sensibles basadas en la comunidad\, buscan asegurar el cambio sostenido de conducta. La finalidad del Día Mundial del Lavado de Manos es motivar a los niños y niñas para que hagan suyas y compartan las prácticas apropiadas del lavado de manos y hacerlos «embajadores del lavado de manos» en cada una de las iniciativas del país en el nivel nacional y local. \n\nFuente: http://lavadodemanos.org/
URL:https://www.neuquen.edu.ar/event/dia-mundial-del-lavado-de-manos/
CATEGORIES:Efemérides
ATTACH;FMTTYPE=image/jpeg:https://www.neuquen.edu.ar/wp-content/uploads/2022/10/15_Dia-mundial-del-lavado-de-manos-WEB.jpg
END:VEVENT
END:VCALENDAR