﻿BEGIN:VCALENDAR
VERSION:2.0
PRODID:-//Educación Neuquén - ECPv6.15.8//NONSGML v1.0//EN
CALSCALE:GREGORIAN
METHOD:PUBLISH
X-ORIGINAL-URL:https://www.neuquen.edu.ar
X-WR-CALDESC:Eventos para Educación Neuquén
REFRESH-INTERVAL;VALUE=DURATION:PT1H
X-Robots-Tag:noindex
X-PUBLISHED-TTL:PT1H
BEGIN:VTIMEZONE
TZID:America/Argentina/Cordoba
BEGIN:STANDARD
TZOFFSETFROM:-0300
TZOFFSETTO:-0300
TZNAME:-03
DTSTART:20210101T000000
END:STANDARD
END:VTIMEZONE
BEGIN:VEVENT
DTSTART;VALUE=DATE:20221003
DTEND;VALUE=DATE:20221004
DTSTAMP:20260421T221222
CREATED:20220930T171106Z
LAST-MODIFIED:20221003T133944Z
UID:29186-1664755200-1664841599@www.neuquen.edu.ar
SUMMARY:Día Mundial del Hábitat
DESCRIPTION:
URL:https://www.neuquen.edu.ar/event/dia-mundial-del-habitat/
CATEGORIES:Efemérides
ATTACH;FMTTYPE=image/jpeg:https://www.neuquen.edu.ar/wp-content/uploads/2022/09/03_Dia-Mundial-de-Habitat_CES-2022-WEB.jpg
END:VEVENT
BEGIN:VEVENT
DTSTART;TZID=America/Argentina/Cordoba:20221003T080000
DTEND;TZID=America/Argentina/Cordoba:20221003T170000
DTSTAMP:20260421T221222
CREATED:20221003T150313Z
LAST-MODIFIED:20221003T151031Z
UID:29306-1664784000-1664816400@www.neuquen.edu.ar
SUMMARY:Día Mundial del Ahorro de Energía
DESCRIPTION:La fecha fue establecida con objetivo de que la sociedad reflexione sobre el consumo energético que se tiene en la vida cotidiana. \nLa Tierra nos provee de las principales fuentes de energía que mueve nuestro mundo\, pero a medida que intensificamos la explotación de estos recursos naturales\, implica un agotamiento de esta riqueza\, por eso es necesario darle un uso racional y en correspondencia con las necesidades sociales y también ambientales. \nEs importante hacer un uso racional de la energía eléctrica y concienciar a la población tanto de los beneficios que nos da así como de sus límites\, que pueden sorprendernos en la medida en que hagamos mal uso de sus propiedades.
URL:https://www.neuquen.edu.ar/event/dia-mundial-del-ahorro-de-energia/
CATEGORIES:Efemérides
ATTACH;FMTTYPE=image/jpeg:https://www.neuquen.edu.ar/wp-content/uploads/2022/10/21_Dia-Mundial-del-Ahorro-de-Energia-WEB.jpg
END:VEVENT
END:VCALENDAR