﻿BEGIN:VCALENDAR
VERSION:2.0
PRODID:-//Educación Neuquén - ECPv6.15.8//NONSGML v1.0//EN
CALSCALE:GREGORIAN
METHOD:PUBLISH
X-WR-CALNAME:Educación Neuquén
X-ORIGINAL-URL:https://www.neuquen.edu.ar
X-WR-CALDESC:Eventos para Educación Neuquén
REFRESH-INTERVAL;VALUE=DURATION:PT1H
X-Robots-Tag:noindex
X-PUBLISHED-TTL:PT1H
BEGIN:VTIMEZONE
TZID:America/Argentina/Cordoba
BEGIN:STANDARD
TZOFFSETFROM:-0300
TZOFFSETTO:-0300
TZNAME:-03
DTSTART:20210101T000000
END:STANDARD
END:VTIMEZONE
BEGIN:VEVENT
DTSTART;VALUE=DATE:20221002
DTEND;VALUE=DATE:20221003
DTSTAMP:20260421T220608
CREATED:20220930T170655Z
LAST-MODIFIED:20221003T133403Z
UID:29180-1664668800-1664755199@www.neuquen.edu.ar
SUMMARY:Conmemoración del fallecimiento de Milton Aguilar
DESCRIPTION:Conmemoración del fallecimiento de Milton Aguilar\, autor de la letra de la canción “Quimey Neuquén”.\n  \nEn el 2018 la Legislatura de la Provincia del Neuquén declaró personalidad ilustre post mortem al locutor\, periodista y recitador Milton Aguilar autor de la letra de “Quimey Neuquén”\, canción oficial del Neuquén según Ley Provincial N° 1933. \nEsta canción fue musicalizada por Marcelo Berbel en los años 60.  Una versión de “Quimey Neuquén”\, arreglada para coro por Raúl Di Blasio\, incorporada por el Ministerio de Educación de la Nación como una de las doce canciones obligatorias para ser interpretada en el nivel de enseñanza media de todo el país. \nSobre Milton Aguilar: \nMilton Aguilar nació en Bajada del Agrio el 26 de abril de 1934 y falleció en la ciudad de Neuquén el 2 de octubre de 2001 a los 67 años de edad. Viajó a Rosario (Santa Fe) a estudiar medicina pero por dificultades económicas volvió a trabajar en radio e integró una compañía de radioteatro. Realizaba giras por el interior santafesino hasta que finalmente abandonó la universidad y retornó a Neuquén. \nEn 1945 comenzó a hacer recitados patrióticos en Radio LU5\, Radio Splendid de Neuquén\, y fue nombrado locutor en 1949 siendo el más joven del país. Sus maestros fueron Alfredo Cruz\, Rita Salto y Magda Byrne. Integró la compañía de radioteatro Amancay\, con la cual recorrió y actuó en muchos pueblos del interior de la Provincia. \nMilton se casó en dos oportunidades y tuvo\, en total seis hijos. Entre 1955 y 1956 fue maestro rural en la escuela de Kilca\, paraje del Departamento Aluminé. \nDesde muy joven comenzó a escribir en relación a su tierra. Su abuela materna era mapuche y marcó su poesía. Confeccionó la primera lista de nombres de origen mapuche\, la cual fue aceptada por el Registro Civil de la Provincia del Neuquén. \nEntre 1962 y 1964 se radicó en Buenos Aires donde trabajó en Radio Rivadavia\, El Mundo\, Splendid y en Canal 11 donde hacía los avisos en vivo. En esa época conoció a grandes figuras de los medios\, quienes contribuyeron en acrecentar su desarrollo profesional. \nTrabajó en el lanzamiento de la revista Tanguera y\, al mismo tiempo\, colaboró con Julio Marbiz en Folklore. Condujo festivales en distintas provincias y fue jurado en el Festival Folklórico de Punta Arenas (Chile). \nEn Neuquén\, abrió una de las primeras agencias de publicidad llamada “Aguilar Producciones Radial Gráfica Televisiva”. Condujo y produjo innumerables programas radiales y el que hacía con Dante Alvarado\, ‘La Posta del Resero’\, fue transmitido por más de 20 años. \nEn 1972 fue uno de los fundadores de la Asociación Amigos del Aborigen Neuquino (ADAN) con la que lograron que se realice el primer Futa Traun-Gran Encuentro- en el que participaron entre otros\, el historiador Mario Raone. \nParticipó de la apertura y tuvo cargos directivos en la Sociedad Argentina de Escritores (SADE)\, Filial Neuquén. \nEn los años ’60 Marcelo Berbel musicalizó el poema que Aguilar había escrito años antes en Buenos Aires “Quimey Neuquén”\, su obra más conocida\, cuya versión fue incorporada por el Ministerio de Educación de la Nación como una de las doce canciones obligatorias para ser interpretada en el nivel de enseñanza media de todo el país. En 1991\, la Legislatura provincial sancionó la Ley N°1933 declarando a “Quimey Neuquén” canción oficial del Neuquén. \nEscribió innumerables poemas\, muchos de los cuales fueron musicalizados por grandes intérpretes y a principios de los ’90 publicó su primer libro de poemas llamado ‘Ñuque Mapu Neuquén’ y más adelante los grabó en formato casete. \nMilton Aguilar dejó un gran legado a los neuquinos a través de su trabajo en los medios\, abriendo camino a los que vendría después. Supo transmitir en la letra de sus poemas tantos sentires y vivencias que con el tiempo otros artistas supieron valorar y transformar en canciones. “Tanto él como don Marcelo Berbel dejaron mucho más que canciones\, dejaron en su arte: la expresión más bella de neuquinidad”\, expresan.
URL:https://www.neuquen.edu.ar/event/conmemoracion-del-fallecimiento-de-milton-aguilar/
CATEGORIES:Efemérides
ATTACH;FMTTYPE=image/jpeg:https://www.neuquen.edu.ar/wp-content/uploads/2022/09/02_Conmemoracion-del-fallecimiento-de-Milton-Aguilar-WEB-1.jpg
END:VEVENT
BEGIN:VEVENT
DTSTART;VALUE=DATE:20221002
DTEND;VALUE=DATE:20221003
DTSTAMP:20260421T220608
CREATED:20220930T170831Z
LAST-MODIFIED:20221003T133922Z
UID:29183-1664668800-1664755199@www.neuquen.edu.ar
SUMMARY:Día Internacional de la No Violencia
DESCRIPTION:El 15 de junio de 2007\, la Asamblea General de las Naciones Unidas resolvió instituir el 2 de octubre Día Internacional de la No Violencia en conmemoración del nacimiento del militante por la paz mundial\, Mahatma Gandhi\, en 1869. \nMohandas Karamchand  Gandhi fue un militante de la paz mundial que\, entre otras medidas\, se sometió a largos ayunos como símbolo de protesta pacífica.  Es una personalidad reconocida por su liderazgo en el movimiento no violento de la India para obtener la independencia del dominio británico. Hoy\, su figura es un ícono que trasciende los límites de la India y se proyecta hacia el resto del mundo como un mensaje y filosofía de paz\, de cultivo a la eliminación de cualquier tipo de violencia. \nLa promulgación y celebración de esta jornada\, dispuesta por Resolución A/RES/61/271 de la Asamblea General de las Naciones Unidas\,  tiene como objetivo general difundir y profundizar las vías diplomáticas y pacíficas para resolver conflictos de carácter político\, tanto los de índole nacional como internacional; además\, inculcar sociedades pacíficas que consideren excluida cualquier vía que implique violencia para resolver problemas. \nLa comunidad internacional\, de esta forma\, encuentra una exhortación más para establecer conductas e improntas que llamen la atención frente a cualquier acto de violencia que pueda producirse desde el Estado\, cualquier ámbito y/o institución.
URL:https://www.neuquen.edu.ar/event/dia-internacional-de-la-no-violencia/
CATEGORIES:Efemérides
ATTACH;FMTTYPE=image/png:https://www.neuquen.edu.ar/wp-content/uploads/2022/09/02_Dia-Internacional-de-la-NO-violencia-WEB.png
END:VEVENT
END:VCALENDAR