﻿BEGIN:VCALENDAR
VERSION:2.0
PRODID:-//Educación Neuquén - ECPv6.15.8//NONSGML v1.0//EN
CALSCALE:GREGORIAN
METHOD:PUBLISH
X-ORIGINAL-URL:https://www.neuquen.edu.ar
X-WR-CALDESC:Eventos para Educación Neuquén
REFRESH-INTERVAL;VALUE=DURATION:PT1H
X-Robots-Tag:noindex
X-PUBLISHED-TTL:PT1H
BEGIN:VTIMEZONE
TZID:America/Argentina/Cordoba
BEGIN:STANDARD
TZOFFSETFROM:-0300
TZOFFSETTO:-0300
TZNAME:-03
DTSTART:20210101T000000
END:STANDARD
END:VTIMEZONE
BEGIN:VEVENT
DTSTART;VALUE=DATE:20220927
DTEND;VALUE=DATE:20220928
DTSTAMP:20260421T221314
CREATED:20220915T150505Z
LAST-MODIFIED:20220915T150505Z
UID:28862-1664236800-1664323199@www.neuquen.edu.ar
SUMMARY:Día Nacional de la Conciencia Ambiental
DESCRIPTION:La Legislatura nacional estableció la fecha a través de la Ley Nº 24.605 sancionada el 7 de diciembre de 1995 en memoria de las personas fallecidas como consecuencia del escape de gas cianhídrico ocurrido en la ciudad de Avellaneda\, Provincia de Buenos Aires\, el 27 de septiembre de 1993. \n  \nLa normativa tiene el objetivo de generar actitudes y comportamientos sociales que cuiden el medioambiente. \n¿Qué podemos hacer como ciudadanos para tomar Conciencia Ambiental? \nSeparar la basura y reciclar\nHoy en día existe cantidad de información circulando que enseña cómo reciclar y separar la basura. De ésta manera\, podemos realizarlo de forma simple y fácil desde la comodidad de nuestros hogares. Incluso\, existen infinidad de organismos no gubernamentales que se ofrecen a recolectar los elementos reciclados por los hogares de las personas. \nMedí y moderá el consumo de agua\nProcurá cerrar las canillas luego de utilizarlas y no dejarlas goteando. Además\, tratá de lavar los platos abriendo y cerrando el grifo entre cada tanda. \nOtro tip consiste en realizar lavados de ropa más grandes para que el aparato (que utiliza agua) consuma la menor cantidad de veces posible este recurso. \nEn adición\, te recomendamos utilizar baldes de agua para lavar autos en vez de mangueras. \nConsumo responsable de energía eléctrica\n¿Sabías que aún apagados los aparatos consumen energía por el simple hecho de estar enchufados? Por eso\, es una buena opción que desconectes aquellos que no utilizás todo el tiempo\, como televisores\, equipos de música\, cargadores de celular\, entre otros\, para evitar el gasto energético excesivo. \nAdemás\, te aconsejamos que elijas focos de bajo consumo. Suelen ser más costosos en cuanto a su inversión inicial\, pero duran más tiempo y colaboran con el cuidado del medioambiente. \nUtilizá productos sustentables y ecológicos\nEvitá aquellos productos no reutilizables elaborados en plástico como descartables\, pajitas\, vasos térmicos\, y bolsas de residuos. En lo que respecta a las compras\, lo ideal es utilizar bolsas de tela ecológicas. \nUtilizar formas de transporte sustentables\nEn la actualidad existen múltiples formas de movilidad sustentables que podrían reemplazar a los automóviles\, dado que no generan huella de carbono\, y en consecuencia\, no dañan el medio ambiente. \nEntre éstas\, podemos mencionar a la bicicleta\, bicicleta eléctrica y monopatín eléctrico. \nÉstas formas de transporte no sólo no generan efecto invernadero al no emitir CO2 a la atmósfera\, sino que también contribuyen a evitar la contaminación sonora del ambiente. \nEntonces\, podemos concluir afirmando que tu aporte como ciclista puede cambiar el mundo. Sin embargo\, para manejar una bicicleta\, es necesario estar protegido de los riesgos externos. Para ello\, recomendamos que revises nuestras coberturas en Seguros de Bici y contrates de forma online aquella que más se adecua a tus necesidades.
URL:https://www.neuquen.edu.ar/event/dia-nacional-de-la-conciencia-ambiental/
CATEGORIES:Efemérides
END:VEVENT
BEGIN:VEVENT
DTSTART;VALUE=DATE:20220927
DTEND;VALUE=DATE:20220928
DTSTAMP:20260421T221314
CREATED:20220915T150655Z
LAST-MODIFIED:20220915T150655Z
UID:28865-1664236800-1664323199@www.neuquen.edu.ar
SUMMARY:Día Nacional de los derechos de los niños\, niñas y adolescentes
DESCRIPTION:
URL:https://www.neuquen.edu.ar/event/dia-nacional-de-los-derechos-de-los-ninos-ninas-y-adolescentes/
CATEGORIES:Efemérides
END:VEVENT
END:VCALENDAR