﻿BEGIN:VCALENDAR
VERSION:2.0
PRODID:-//Educación Neuquén - ECPv6.15.8//NONSGML v1.0//EN
CALSCALE:GREGORIAN
METHOD:PUBLISH
X-ORIGINAL-URL:https://www.neuquen.edu.ar
X-WR-CALDESC:Eventos para Educación Neuquén
REFRESH-INTERVAL;VALUE=DURATION:PT1H
X-Robots-Tag:noindex
X-PUBLISHED-TTL:PT1H
BEGIN:VTIMEZONE
TZID:America/Argentina/Cordoba
BEGIN:STANDARD
TZOFFSETFROM:-0300
TZOFFSETTO:-0300
TZNAME:-03
DTSTART:20210101T000000
END:STANDARD
END:VTIMEZONE
BEGIN:VEVENT
DTSTART;VALUE=DATE:20220921
DTEND;VALUE=DATE:20220922
DTSTAMP:20260421T234152
CREATED:20220915T145023Z
LAST-MODIFIED:20220915T145023Z
UID:28850-1663718400-1663804799@www.neuquen.edu.ar
SUMMARY:Día de las y los Estudiantes
DESCRIPTION:Sarmiento había viajado a esa ciudad en 1887 luego que su médico le recomendara alejarse del frío porteño por su delicado estado de salud: sufría de insuficiencia cardiovascular y bronquial. Uno año después se embarcaron hacia ese país su hija y sus nietos\, para acompañarlo en sus últimos momentos de vida.  \nMurió a los 77 años\, el 11 de septiembre de 1888\, y sus restos fueron inhumados en el Cementerio de la Recoleta en Buenos Aires diez días después. \nPero fue en 1892\, cuando un estudiante universitario y presidente del Centro de Estudiantes de la Facultad de Filosofía y Letras\, llamado Salvador Debenedetti\, (de apenas 18 años) presentó la propuesta de homenajearlo celebrando el «Día de los Estudiantes». \nEsa iniciativa\, que tuvo la aprobación de las autoridades\, en principio solo se festejó en esa Facultad; donde se leyeron fragmentos recordando a la figura del maestro\, político y periodista argentino. Pero con el tiempo se fueron sumando más y luego se expandió también al ámbito secundario. \nGracias a su larga y multifacética carrera\, Sarmiento es considerado una pieza fundamental en la educación pública argentina. \nSarmiento fue gobernador de la provincia de San Juan entre 1862 y 1864\, presidente de la Nación Argentina entre 1868 y 1874\, senador nacional entre 1874 y 1879 y ministro del Interior en 1879. \nDurante su presidencia se construyeron 800 escuelas primarias y sumó a los 30 mil alumnos que ya estaban escolarizados a otros 80 mil más. \nHoy\, es considerado como uno de los grandes prosistas castellanos\, destacado tanto por su labor en la educación pública como en su contribución al progreso científico y cultural de su país.
URL:https://www.neuquen.edu.ar/event/dia-de-las-y-los-estudiantes/
CATEGORIES:Efemérides
END:VEVENT
BEGIN:VEVENT
DTSTART;VALUE=DATE:20220921
DTEND;VALUE=DATE:20220922
DTSTAMP:20260421T234152
CREATED:20220915T145507Z
LAST-MODIFIED:20220915T145507Z
UID:28853-1663718400-1663804799@www.neuquen.edu.ar
SUMMARY:Día Internacional de la Paz
DESCRIPTION:La fecha fue establecida por la Organización de las Naciones Unidas en el 2001\, a través de la Resolución 55/282\, con el objetivo de fortalecer los compromisos por parte de los Estados Miembros por el trabajo destinado consolidar la paz en el mundo y establecer vías diplomáticas para la resolución de conflictos internacionales o internos de cualquier Estado del mundo. \nLa paz mundial es uno de los objetivos prioritarios para los países del mundo en materia de relaciones internacionales. Las guerras\, todavía moneda corriente en nuestro planeta\, son uno de los fenómenos más tormentosos que vivimos como comunidad mundial.
URL:https://www.neuquen.edu.ar/event/dia-internacional-de-la-paz/
CATEGORIES:Efemérides
END:VEVENT
END:VCALENDAR