﻿BEGIN:VCALENDAR
VERSION:2.0
PRODID:-//Educación Neuquén - ECPv6.15.8//NONSGML v1.0//EN
CALSCALE:GREGORIAN
METHOD:PUBLISH
X-WR-CALNAME:Educación Neuquén
X-ORIGINAL-URL:https://www.neuquen.edu.ar
X-WR-CALDESC:Eventos para Educación Neuquén
REFRESH-INTERVAL;VALUE=DURATION:PT1H
X-Robots-Tag:noindex
X-PUBLISHED-TTL:PT1H
BEGIN:VTIMEZONE
TZID:America/Argentina/Cordoba
BEGIN:STANDARD
TZOFFSETFROM:-0300
TZOFFSETTO:-0300
TZNAME:-03
DTSTART:20210101T000000
END:STANDARD
END:VTIMEZONE
BEGIN:VEVENT
DTSTART;VALUE=DATE:20220916
DTEND;VALUE=DATE:20220917
DTSTAMP:20260421T234637
CREATED:20220915T142148Z
LAST-MODIFIED:20220915T142148Z
UID:28829-1663286400-1663372799@www.neuquen.edu.ar
SUMMARY:Día de los Derechos de las y los Estudiantes Secundarios
DESCRIPTION:La fecha fue instaurada mediante la Ley 10.671 en el año 1998 y Ley Provincial 2.688 en el 2010\, con el objetivo de conmemorar la desaparición forzada de un grupo de estudiantes secundarios durante la dictadura cívico-militar iniciada en 1976 conocida como “La Noche de los Lápices”.  \nLos jóvenes desaparecidos habían luchado en defensa del boleto estudiantil\, también tenían una militancia activa\, fuertemente comprometida con la transformación de la sociedad\, y en contra la pobreza. Los estudiantes fueron secuestrados en la madrugada del 16 de septiembre\, éstos fueron sacados de los domicilios donde dormían. Algunos de ellos pudieron sobrevivir y recuperar la libertad\, mientras que el resto nunca apareció.
URL:https://www.neuquen.edu.ar/event/dia-de-los-derechos-de-las-y-los-estudiantes-secundarios/
CATEGORIES:Efemérides
END:VEVENT
END:VCALENDAR