﻿BEGIN:VCALENDAR
VERSION:2.0
PRODID:-//Educación Neuquén - ECPv6.15.8//NONSGML v1.0//EN
CALSCALE:GREGORIAN
METHOD:PUBLISH
X-ORIGINAL-URL:https://www.neuquen.edu.ar
X-WR-CALDESC:Eventos para Educación Neuquén
REFRESH-INTERVAL;VALUE=DURATION:PT1H
X-Robots-Tag:noindex
X-PUBLISHED-TTL:PT1H
BEGIN:VTIMEZONE
TZID:America/Argentina/Cordoba
BEGIN:STANDARD
TZOFFSETFROM:-0300
TZOFFSETTO:-0300
TZNAME:-03
DTSTART:20210101T000000
END:STANDARD
END:VTIMEZONE
BEGIN:VEVENT
DTSTART;VALUE=DATE:20220912
DTEND;VALUE=DATE:20220913
DTSTAMP:20260421T235052
CREATED:20220915T141041Z
LAST-MODIFIED:20220915T141041Z
UID:28815-1662940800-1663027199@www.neuquen.edu.ar
SUMMARY:Aniversario de Neuquén Capital
DESCRIPTION:
URL:https://www.neuquen.edu.ar/event/aniversario-de-neuquen-capital/
CATEGORIES:Efemérides
END:VEVENT
END:VCALENDAR