﻿BEGIN:VCALENDAR
VERSION:2.0
PRODID:-//Educación Neuquén - ECPv6.15.8//NONSGML v1.0//EN
CALSCALE:GREGORIAN
METHOD:PUBLISH
X-ORIGINAL-URL:https://www.neuquen.edu.ar
X-WR-CALDESC:Eventos para Educación Neuquén
REFRESH-INTERVAL;VALUE=DURATION:PT1H
X-Robots-Tag:noindex
X-PUBLISHED-TTL:PT1H
BEGIN:VTIMEZONE
TZID:America/Argentina/Cordoba
BEGIN:STANDARD
TZOFFSETFROM:-0300
TZOFFSETTO:-0300
TZNAME:-03
DTSTART:20210101T000000
END:STANDARD
END:VTIMEZONE
BEGIN:VEVENT
DTSTART;VALUE=DATE:20220911
DTEND;VALUE=DATE:20220912
DTSTAMP:20260421T235051
CREATED:20220915T140451Z
LAST-MODIFIED:20220915T140735Z
UID:28811-1662854400-1662940799@www.neuquen.edu.ar
SUMMARY:Día de las y los Maestros
DESCRIPTION:La fecha fue instituida en 1943 durante la Primera Conferencia de Ministros\, Directores de Educación de las Repúblicas Americanas\, celebrada en Panamá en conmemoración del fallecimiento de un luchador por la educación y la cultura del pueblo\, Domingo Faustino Sarmiento en el año 1888 pero\, también\, en reconocimiento a la importancia que implica el trabajo y disposición de las y los maestros que día a día realizan su trabajo en las escuelas.  \n  \nDe Sarmiento\, se destaca su lucha por la educación y la cultura de su pueblo. Mientras fue gobernador decretó la Ley de enseñanza obligatoria primaria y como Jefe de Estado logró triplicar la población escolar. \nEn este día especial saludamos a las y los maestros neuquinos\, quienes con su disposición\, trabajo y compromiso llevan adelante la tarea de acompañar a las trayectorias escolares. \n 
URL:https://www.neuquen.edu.ar/event/dia-de-las-y-los-maestros/
CATEGORIES:Efemérides
END:VEVENT
END:VCALENDAR