﻿BEGIN:VCALENDAR
VERSION:2.0
PRODID:-//Educación Neuquén - ECPv6.15.8//NONSGML v1.0//EN
CALSCALE:GREGORIAN
METHOD:PUBLISH
X-WR-CALNAME:Educación Neuquén
X-ORIGINAL-URL:https://www.neuquen.edu.ar
X-WR-CALDESC:Eventos para Educación Neuquén
REFRESH-INTERVAL;VALUE=DURATION:PT1H
X-Robots-Tag:noindex
X-PUBLISHED-TTL:PT1H
BEGIN:VTIMEZONE
TZID:America/Argentina/Cordoba
BEGIN:STANDARD
TZOFFSETFROM:-0300
TZOFFSETTO:-0300
TZNAME:-03
DTSTART:20210101T000000
END:STANDARD
END:VTIMEZONE
BEGIN:VEVENT
DTSTART;VALUE=DATE:20220905
DTEND;VALUE=DATE:20220906
DTSTAMP:20260421T234610
CREATED:20220915T133935Z
LAST-MODIFIED:20220915T135344Z
UID:28797-1662336000-1662422399@www.neuquen.edu.ar
SUMMARY:Día de la mujer indígena
DESCRIPTION:La fecha fue instituida en 1983 durante el Segundo Encuentro de Organizaciones y Movimientos de América realizado en Tiahuanaco\, Bolivia con el objetivo de dar reconocimiento a todas las mujeres indígenas\, portadoras de la herencia cultural y ancestral de estas comunidades; así como también de aquellas que murieron en la lucha contra la discriminación y los abusos cometidos a este género y etnia durante la historia. \nEn esta fecha se conmemora a Bartolina Sisa\, una valerosa mujer quechua que fue descuartizada por las fuerzas españolas durante la rebelión anticolonial de Túpaj Katari en el Alto Perú. \nSobre Bartolina Sisa \nDescendía de una estirpe de mujeres dentro de la cultura Aymara llamada «Mama Tallas». El linaje de Bartolina era profundamente respetado dentro de su sociedad: rendían culto a sus propias divinidades y compartían la autoridad con los varones de su pueblo\, construyendo de esta forma una sociedad más solidaria y equilibrada. \nAl ver las acciones cometidas por los conquistadores españoles\, se une a la lucha del ejército Aymara de liberación\, liderado por el que fuera su esposo\, Tupak Katari. Asesinada el 5 de septiembre de 1782\, murió descuartizada por las fuerzas realistas durante la rebelión anti-colonial en el Alto Perú.
URL:https://www.neuquen.edu.ar/event/dia-de-la-mujer-indigena/
CATEGORIES:Efemérides
END:VEVENT
END:VCALENDAR