﻿BEGIN:VCALENDAR
VERSION:2.0
PRODID:-//Educación Neuquén - ECPv6.15.8//NONSGML v1.0//EN
CALSCALE:GREGORIAN
METHOD:PUBLISH
X-WR-CALNAME:Educación Neuquén
X-ORIGINAL-URL:https://www.neuquen.edu.ar
X-WR-CALDESC:Eventos para Educación Neuquén
REFRESH-INTERVAL;VALUE=DURATION:PT1H
X-Robots-Tag:noindex
X-PUBLISHED-TTL:PT1H
BEGIN:VTIMEZONE
TZID:America/Argentina/Cordoba
BEGIN:STANDARD
TZOFFSETFROM:-0300
TZOFFSETTO:-0300
TZNAME:-03
DTSTART:20210101T000000
END:STANDARD
END:VTIMEZONE
BEGIN:VEVENT
DTSTART;VALUE=DATE:20220904
DTEND;VALUE=DATE:20220905
DTSTAMP:20260421T234457
CREATED:20220915T132756Z
LAST-MODIFIED:20220915T132756Z
UID:28791-1662249600-1662335999@www.neuquen.edu.ar
SUMMARY:Día de las y los secretarios
DESCRIPTION:Esta fecha se celebra cada 4 de setiembre como homenaje y reconocimiento a las personas que están en estos puestos de trabajo. Su función resulta indispensable para cualquier institución que incluya tareas administrativas entre sus actividades. \n  \nSi bien no existen datos fehacientes sobre el origen de esta fecha\, lo cierto es que los derechos y reconocimientos por su trabajo administrativo\, fueron reconocidos en Argentina en concordancia con el reconocimiento que la Asociación Nacional de las Secretarias de Estados Unidos hizo en 1942 a este oficio. \n\nEn este día tan especial felicitamos y agradecemos la tarea que llevan adelante en los distintos establecimientos educativos y administrativos.
URL:https://www.neuquen.edu.ar/event/dia-de-las-y-los-secretarios/
CATEGORIES:Efemérides
ATTACH;FMTTYPE=image/jpeg:https://www.neuquen.edu.ar/wp-content/uploads/2022/09/04-Dia-de-los-secretarios_post-scaled.jpg
END:VEVENT
BEGIN:VEVENT
DTSTART;VALUE=DATE:20220904
DTEND;VALUE=DATE:20220905
DTSTAMP:20260421T234457
CREATED:20220915T133233Z
LAST-MODIFIED:20220915T133233Z
UID:28794-1662249600-1662335999@www.neuquen.edu.ar
SUMMARY:Día de las y los Inmigrantes
DESCRIPTION:La fecha fue establecida en 1949 a través del Decreto 21.430 durante el gobierno del General Juan Domingo Perón en el que se conmemora una disposición dictada por el Primer Triunvirato. \nEl 4 de septiembre de 1812 se establecía la inmediata protección y recibimiento de toda persona del mundo y su familia que deseara o necesitara establecer domicilio en el Estado argentino\, otorgándole los mismos derechos y reconocimientos que cualquier otro ciudadano argentino. \nLa llegada de los inmigrantes al país respondió a patrones mundiales de flujos de población. La mayoría de ellos abandonó su patria lanzándose literalmente a la aventura\, pues ignoraban casi todo de su lugar de destino.
URL:https://www.neuquen.edu.ar/event/dia-de-las-y-los-inmigrantes/
CATEGORIES:Efemérides
ATTACH;FMTTYPE=image/jpeg:https://www.neuquen.edu.ar/wp-content/uploads/2022/09/04_Dia-de-los-Inmigrantes__Post-of-scaled.jpg
END:VEVENT
END:VCALENDAR