﻿BEGIN:VCALENDAR
VERSION:2.0
PRODID:-//Educación Neuquén - ECPv6.15.8//NONSGML v1.0//EN
CALSCALE:GREGORIAN
METHOD:PUBLISH
X-WR-CALNAME:Educación Neuquén
X-ORIGINAL-URL:https://www.neuquen.edu.ar
X-WR-CALDESC:Eventos para Educación Neuquén
REFRESH-INTERVAL;VALUE=DURATION:PT1H
X-Robots-Tag:noindex
X-PUBLISHED-TTL:PT1H
BEGIN:VTIMEZONE
TZID:America/Argentina/Cordoba
BEGIN:STANDARD
TZOFFSETFROM:-0300
TZOFFSETTO:-0300
TZNAME:-03
DTSTART:20210101T000000
END:STANDARD
END:VTIMEZONE
BEGIN:VEVENT
DTSTART;VALUE=DATE:20220903
DTEND;VALUE=DATE:20220904
DTSTAMP:20260421T234726
CREATED:20220915T132327Z
LAST-MODIFIED:20220915T135517Z
UID:28788-1662163200-1662249599@www.neuquen.edu.ar
SUMMARY:Día Mundial de la Higiene
DESCRIPTION:La fecha es celebrada a nivel mundial con el objetivo de recordar la importancia que implica la higiene para la prevención de diferentes tipos de enfermedades. Suele considerarse que la idea de higiene consiste simplemente en el aseo del cuerpo\, sin embargo\, abarca también la limpieza de los hogares y sus alrededores\, de los sitios laborales\, la higiene de los alimentos\, etc. \n  \nSegún datos de UNICEF\, lavarse las manos con jabón puede reducir la incidencia de infecciones respiratorias en un 23%\, como la neumonía\, que es la primera causa de muerte de niños menores de cinco años y que mata cada año a 1\,8 millones de chicos. Cabe destacar que más de 5 mil niños menores de cinco años mueren diariamente en el mundo como resultado de las enfermedades diarreicas\, debidas en parte al agua contaminada\, a la carencia de instalaciones de saneamiento básico y a prácticas higiénicas deficientes. \nLa higiene de los alimentos es otro de los puntos a tener en cuenta. Frutas y verduras crudas deben lavarse cuidadosamente con agua potable\, y el lavado de manos antes y después de manipularlas debe ser constante para evitar la propagación de gérmenes. \nPor todo esto una vez más destacamos la importancia de la higiene para tener una mejor calidad de vida para nosotros y futuras generaciones.
URL:https://www.neuquen.edu.ar/event/dia-mundial-de-la-higiene/
CATEGORIES:Efemérides
END:VEVENT
END:VCALENDAR