﻿BEGIN:VCALENDAR
VERSION:2.0
PRODID:-//Educación Neuquén - ECPv6.15.8//NONSGML v1.0//EN
CALSCALE:GREGORIAN
METHOD:PUBLISH
X-ORIGINAL-URL:https://www.neuquen.edu.ar
X-WR-CALDESC:Eventos para Educación Neuquén
REFRESH-INTERVAL;VALUE=DURATION:PT1H
X-Robots-Tag:noindex
X-PUBLISHED-TTL:PT1H
BEGIN:VTIMEZONE
TZID:America/Argentina/Cordoba
BEGIN:STANDARD
TZOFFSETFROM:-0300
TZOFFSETTO:-0300
TZNAME:-03
DTSTART:20210101T000000
END:STANDARD
END:VTIMEZONE
BEGIN:VEVENT
DTSTART;VALUE=DATE:20220827
DTEND;VALUE=DATE:20220828
DTSTAMP:20260422T012321
CREATED:20220803T123701Z
LAST-MODIFIED:20220803T123701Z
UID:28269-1661558400-1661644799@www.neuquen.edu.ar
SUMMARY:Día Nacional de la radio.
DESCRIPTION:En 1920 cuatro radioaficionados conocidos como “Locos de la Azotea” realizaron la primera transmisión radiofónica (integral y completa) de un programa de radio en la Argentina. \nEl médico Enrique Susini junto a sus amigos César Guerrico\, Luis Romero Carranza y Miguel Mujica realizaron la transmisión de “La ópera de Parsifal” de Richard Wagner desde el Teatro Coliseo. \nAunque la «hazaña» de los «locos de la azotea» -como se los conoce hoy en día- fue escuchada solo por unos pocos propietarios de radios en la capital\, el hecho quedó en la historia y culminó en la creación de Radio Argentina y otras emisoras. \nEsta emisora fue la primera en transmitir el discurso de un presidente\, difundir un noticiero y además lograr formar un equipo de locutores. El día tiene una gran importancia porque dio pie a la conformación de la industria radiofónica en nuestro país.
URL:https://www.neuquen.edu.ar/event/dia-nacional-de-la-radio/
CATEGORIES:Efemérides
ATTACH;FMTTYPE=image/jpeg:https://www.neuquen.edu.ar/wp-content/uploads/2022/08/27_Dia-nacional-de-la-radio-post.jpg
END:VEVENT
END:VCALENDAR