﻿BEGIN:VCALENDAR
VERSION:2.0
PRODID:-//Educación Neuquén - ECPv6.15.8//NONSGML v1.0//EN
CALSCALE:GREGORIAN
METHOD:PUBLISH
X-WR-CALNAME:Educación Neuquén
X-ORIGINAL-URL:https://www.neuquen.edu.ar
X-WR-CALDESC:Eventos para Educación Neuquén
REFRESH-INTERVAL;VALUE=DURATION:PT1H
X-Robots-Tag:noindex
X-PUBLISHED-TTL:PT1H
BEGIN:VTIMEZONE
TZID:America/Argentina/Cordoba
BEGIN:STANDARD
TZOFFSETFROM:-0300
TZOFFSETTO:-0300
TZNAME:-03
DTSTART:20210101T000000
END:STANDARD
END:VTIMEZONE
BEGIN:VEVENT
DTSTART;VALUE=DATE:20220809
DTEND;VALUE=DATE:20220810
DTSTAMP:20260422T012040
CREATED:20220803T114912Z
LAST-MODIFIED:20220803T114912Z
UID:28222-1660003200-1660089599@www.neuquen.edu.ar
SUMMARY:Día internacional de los Pueblos Indígenas (Onu)
DESCRIPTION:La Asamblea General de las Naciones Unidas estableció la fecha el 23 de diciembre de 1994 con el objetivo de promover la cooperación entre los países del mundo para prestar atención y resolver los distintos problemas relacionados a múltiples áreas entre las que destacan la salud\, educación\, economía\, el medio ambiente\, uso del suelo\, desarrollo y derechos humanos de estas comunidades. \nEl 9 de agosto se conmemora la primera reunión que celebró el Grupo de Trabajo sobre las múltiples Poblaciones de pueblos originarios de la Subcomisión de Prevención de Discriminaciones y Protección a las Minorías\, en 1982. \nNecesitamos a los indígenas para conseguir un mundo mejor \nExisten alrededor de 476 millones de indígenas viviendo a lo largo de 90 países. Representan poco más del 5% de la población mundial y\, sin embargo\, se encuentran entre las poblaciones más desfavorecidas y vulnerables representando el 15 por ciento de los más pobres. \nLos pueblos indígenas han heredado y practican culturas y formas únicas de relacionarse con la gente y el medio ambiente. Retienen\, además\, rasgos sociales\, culturales\, económicos y políticos que son distintos de los predominantes en las sociedades en las que viven. Pese a sus diferencias culturales\, los pueblos indígenas de todo el mundo comparten problemas comunes a la hora de proteger sus derechos como pueblos diferentes. \nLas poblaciones autóctonas han buscado durante años el reconocimiento de sus identidades\, su forma de vida y el derecho sobre sus territorios tradicionales y recursos naturales. Pese a ello\, a lo largo de la historia\, sus derechos han sido siempre violados. En la actualidad\, se encuentran sin duda entre las poblaciones más vulnerables y perjudicadas del mundo. La comunidad internacional reconoce ahora que se necesitan medidas especiales para proteger sus derechos y mantener sus culturas y formas de vida. \nPara dar a conocer las necesidades de estos grupos de población\, cada 9 de agosto se conmemora el Día Internacional de los Pueblos Indígenas en reconocimiento a la primera reunión de trabajo de las Naciones Unidas sobre la población indígena que tuvo lugar en Ginebra en 1982. \nMaterial Extraído del Sitio Web de las Naciones Unidas: https://www.un.org/es/observances/indigenous-day/background \n 
URL:https://www.neuquen.edu.ar/event/dia-internacional-de-los-pueblos-indigenas-onu/
CATEGORIES:Efemérides
ATTACH;FMTTYPE=image/jpeg:https://www.neuquen.edu.ar/wp-content/uploads/2022/08/9_Dia-Internacional-de-los-pueblos-indigenas-ONU-post.jpg
END:VEVENT
BEGIN:VEVENT
DTSTART;VALUE=DATE:20220809
DTEND;VALUE=DATE:20220810
DTSTAMP:20260422T012040
CREATED:20220803T115716Z
LAST-MODIFIED:20220803T115716Z
UID:28239-1660003200-1660089599@www.neuquen.edu.ar
SUMMARY:Día Nacional de la Enseñanza Especial
DESCRIPTION:Cada 9 de agosto se celebra el día del Maestro de Educación Especial en recuerdo de la fecha de creación de la Rama Técnica de Educación Especial\, que en la actualidad es una Modalidad\, según la Ley de Educación. \nLa modalidad de Educación Especial\, establecida en la Ley de Educación Nacional\, que fuera sancionada allá por 2006\, propone asegurar el derecho a la educación en todos los niveles y modalidades a las personas con discapacitad\, al garantizarles un conjunto de servicios en escuelas especiales y comunes\, desde la primera infancia hasta la adultez. \nNuestras felicitaciones y agradecimiento a las escuelas de enseñanza especial de la provincia del Neuquén por el esfuerzo y dedicación con la que llevan la tarea de formación de las y los estudiantes.
URL:https://www.neuquen.edu.ar/event/dia-nacional-de-la-ensenanza-especial/
CATEGORIES:Efemérides
ATTACH;FMTTYPE=image/jpeg:https://www.neuquen.edu.ar/wp-content/uploads/2022/08/9_Dia-de-la-ensenanza-Especial-post.jpg
END:VEVENT
END:VCALENDAR