﻿BEGIN:VCALENDAR
VERSION:2.0
PRODID:-//Educación Neuquén - ECPv6.15.8//NONSGML v1.0//EN
CALSCALE:GREGORIAN
METHOD:PUBLISH
X-WR-CALNAME:Educación Neuquén
X-ORIGINAL-URL:https://www.neuquen.edu.ar
X-WR-CALDESC:Eventos para Educación Neuquén
REFRESH-INTERVAL;VALUE=DURATION:PT1H
X-Robots-Tag:noindex
X-PUBLISHED-TTL:PT1H
BEGIN:VTIMEZONE
TZID:America/Argentina/Cordoba
BEGIN:STANDARD
TZOFFSETFROM:-0300
TZOFFSETTO:-0300
TZNAME:-03
DTSTART:20210101T000000
END:STANDARD
END:VTIMEZONE
BEGIN:VEVENT
DTSTART;VALUE=DATE:20220729
DTEND;VALUE=DATE:20220730
DTSTAMP:20260422T025517
CREATED:20220623T144650Z
LAST-MODIFIED:20220628T153440Z
UID:27731-1659052800-1659139199@www.neuquen.edu.ar
SUMMARY:Día de la Cultura Nacional
DESCRIPTION:Con el objetivo de evaluar la labor realizada en el afianzamiento y promoción de la Cultura Nacional se estableció esta fecha en 1982 en conmemoración de la muerte del escritor\, político e historiador Ricardo Rojas y \nAsí rezaba el decreto: “La cultura\, expresión esencial del hombre\, define e identifica a los pueblos\, los que trascienden merced al desarrollo\, preservación y difusión de aquella.”. \n¿Por qué Ricardo Rojas?\nEl mismo decreto lo explica: “Ricardo Rojas representa muy singularmente\, en su polifacética y honda personalidad intelectual\, diversas manifestaciones culturales y encarna una preocupación argentina de preservar y difundir las características de la cultura nacional. El primer Congreso Nacional de Directores de Cultura de la Argentina\, realizado en Buenos Aires en septiembre de 1957\, eligió su figura de hombre del interior\, defensor de la esencia nacional y promotor de las letras\, las artes y las ciencias evocando su memoria como orientadora en sus deliberaciones”. \nRicardo Rojas nació en Tucumán en 1882. Estudió periodismo en Santiago del Estero y fue profesor de Literatura castellana. Entre sus logros\, ganó el Premio Nacional de Literatura y fue un hombre de ideas liberales y democráticas\, que conoció la persecución política\, por lo que tuvo una etapa de confinamiento. De esta manera\, ccupó el cargo de embajador argentino en Perú\, en 1955. \nRojas afirma en su obra “La Historia de la literatura argentina”\, que “la argentinidad está constituida por un territorio\, por un pueblo\, por un estado\, por un idioma\, por un ideal que tiende cada día a definirse mejor. Ahora mismo\, con estas breves páginas\, estamos tratando de definirlo”. \nLa influencia de Rojas en las nuevas generaciones argentinas es indudable y fecunda. Como intelectual multifacético\, marcó el agotamiento del modelo cultural de su generación y postuló una profunda renovación nacional. Ello lo llevó a reivindicar la inserción de la cultura en las provincias del país como requisito de la identidad de la nación. Ricardo Rojas dedicó su vida a enaltecer el teatro y la literatura nacional argentina.
URL:https://www.neuquen.edu.ar/event/dia-de-la-cultura-nacional/
CATEGORIES:Efemérides
ATTACH;FMTTYPE=image/jpeg:https://www.neuquen.edu.ar/wp-content/uploads/2022/06/29-Dia-de-la-cultura-nacional-post.jpg
END:VEVENT
END:VCALENDAR