﻿BEGIN:VCALENDAR
VERSION:2.0
PRODID:-//Educación Neuquén - ECPv6.15.8//NONSGML v1.0//EN
CALSCALE:GREGORIAN
METHOD:PUBLISH
X-WR-CALNAME:Educación Neuquén
X-ORIGINAL-URL:https://www.neuquen.edu.ar
X-WR-CALDESC:Eventos para Educación Neuquén
REFRESH-INTERVAL;VALUE=DURATION:PT1H
X-Robots-Tag:noindex
X-PUBLISHED-TTL:PT1H
BEGIN:VTIMEZONE
TZID:America/Argentina/Cordoba
BEGIN:STANDARD
TZOFFSETFROM:-0300
TZOFFSETTO:-0300
TZNAME:-03
DTSTART:20210101T000000
END:STANDARD
END:VTIMEZONE
BEGIN:VEVENT
DTSTART;VALUE=DATE:20220620
DTEND;VALUE=DATE:20220621
DTSTAMP:20260422T043709
CREATED:20220622T124838Z
LAST-MODIFIED:20220622T144915Z
UID:27630-1655683200-1655769599@www.neuquen.edu.ar
SUMMARY:Día de la Bandera
DESCRIPTION:El 20 de junio se conmemora el Día de la Bandera en homenaje a Manuel Belgrano\, quien falleció un 20 de junio de 1820. \nBelgrano fue una figura destacada del ciclo histórico y político que se abrió con la Revolución de Mayo. Fue abogado\, político\, militar\, propulsor de proyectos económicos. Entre las muchas acciones que protagonizó\, una de las más destacadas fue la creación de la Bandera Nacional en 1812. Ese año\, el Primer Triunvirato lo había nombrado jefe militar del Ejército del Norte para vencer a las resistencias realistas reagrupadas en el Alto Perú. Fue en este momento cuando Belgrano\, sin una orden previa\, creó en las cercanías de Rosario una bandera con una franja celeste y otra blanca que se convirtió luego en referencia de la que sería la Bandera Nacional.\nBelgrano peleó muchas batallas\, pero no siempre las ganó. Por eso\, lo que se rescata de su figura no es el éxito\, sino su ejemplo moral\, que se convirtió en ejemplo para pensar los derechos y las obligaciones ciudadanas. Suele ser evocado como aquel civil que eligió abandonar sus intereses privados para sellar un compromiso inquebrantable con dos acontecimientos centrales de la historia argentina: la Revolución y la Independencia.\nUna bandera es un símbolo. ¿Y qué quiere decir eso? Que está en lugar de «otra cosa». ¿Y que es esa «otra cosa» que representa la bandera? Podemos decir que la idea de nación\, de pertenencia colectiva: la República Argentina. Llegar a tener una bandera común no fue fácil: hubo un largo proceso de luchas internas y con otras naciones. Por eso\, la bandera no fue siempre así como la conocemos\, en distintos momentos históricos tuvo otro diseño y otros colores.\n1. Bandera izada por Belgrano en Rosario\, febrero 1812 \n\n \nEsta bandera fue hecha con los colores de la escarapela. Fue levantada en Rosario por la batería Independencia\, una parte de las tropas del ejército comandada por Belgrano. Semanas después\, una bandera similar fue confeccionada\, izada y bendecida en Jujuy\, en el segundo aniversario de la Revolución de Mayo. En ambos casos\, se trató de una iniciativa de Belgrano\, quien creía necesario contar con un símbolo que distinguiera a las tropas patriotas para levantar su moral durante el combate. En las dos ocasiones fue reprendido por el Triunvirato porque «tener una bandera» era equivalente a una declaración de independencia\, algo que el Triunvirato no estaba decidido a hacer. \n\nLa bandera fue enarbolada nuevamente en septiembre de 1812 luego del triunfo en la batalla de Tucumán. Belgrano la llamó «Bandera del Ejército». Lo mismo hizo en la batalla de Salta\, en febrero de 1813; y en las derrotas de Vilcapugio y Ayohuma (octubre y noviembre de 1813). Un soldado que participó en estas últimas batallas recordaría\, setenta años después\, que «nuestra pérdida fue total\, se puede decir que todo quedó en el campo de batalla\, excepto la bandera que para que se perdiera era preciso que se muriera Belgrano\, porque él la llevaba en la retirada». \n\nCuando San Martín asumió el mando del Ejército para cruzar los Andes recibió del propio Belgrano una bandera con este diseño. Esta\, conocida como «Bandera de la patria»\, fue ganando terreno lejos del teatro de operaciones de la guerra. Se la vio en la iglesia de San Nicolás en mayo de 1812 y en los festejos por el triunfo de la batalla de Tucumán en la ciudad de Buenos Aires.  \n\n2. Bandera institucionalizada por el Congreso de Tucumán\, 1816 \n\n \nEn 1816 el Congreso de Tucumán institucionalizó la bandera con dos franjas celestes y una blanca en el medio. Primero la nombró «bandera menor» para usar solo en «ejércitos\, buques y fortalezas»\, pero al poco tiempo\, por pedido del director supremo Juan Martín Pueyrredón\, la designó como bandera oficial. Debía tener tres franjas\, la del medio debía tener el doble de tamaño para que\, en caso de guerra\, tuviera el dibujo de un sol. El color de las otras dos debía ser más azul celeste que celeste. \n\n  \n\n3. Bandera utilizada por Juan Manuel de Rosas\, 1829-1832  \n\n \nLa bandera utilizada por la Confederación durante el liderazgo de Juan Manuel de Rosas también disiente de la «celeste y blanca». Durante su primer mandato (1829-1832)\, Rosas cambió el azul celeste por un azul profundo\, ya que la bandera celeste se asociaba usualmente con los unitarios. Durante su segunda gobernación (1835-1852)\, le agregó cuatro gorros frigios en los vértices\, los símbolos distintivos de la Federación. \n \n\n  \n\n4. Bandera actual \n\n \nEl Congreso Constituyente de 1853\, al que no adhirió la provincia de Buenos Aires\, volvió a los colores celeste y blanco con el sol en la franja media\, tomando como referencia la bandera consagrada por el Congreso Constituyente en 1816. Una modificación que incorporó fue el cambio de proporciones entre las franjas: la blanca debía tener el mismo ancho que las celestes. Esta versión de la Bandera Nacional se asemeja a la que hoy conocemos. En 1938 se consagró al 20 de junio como Día de la Bandera. A partir de 1985\, ya en tiempos de democracia\, se decidió que el sol de la bandera no debía ser considerado como símbolo de guerra\, sino como evocación del «Sol de Mayo».
URL:https://www.neuquen.edu.ar/event/dia-de-la-bandera/
CATEGORIES:Efemérides
ATTACH;FMTTYPE=image/jpeg:https://www.neuquen.edu.ar/wp-content/uploads/2022/06/20_Dia-de-la-bandera-post.jpg
END:VEVENT
BEGIN:VEVENT
DTSTART;TZID=America/Argentina/Cordoba:20220620T000000
DTEND;TZID=America/Argentina/Cordoba:20220626T235900
DTSTAMP:20260422T043709
CREATED:20220623T151332Z
LAST-MODIFIED:20220623T151332Z
UID:27739-1655683200-1656287940@www.neuquen.edu.ar
SUMMARY:Semana de la Prevención de Consumos Problemáticos (CES 2022)
DESCRIPTION:Hasta 26/06
URL:https://www.neuquen.edu.ar/event/semana-de-la-prevencion-de-consumos-problematicos-ces-2022/
CATEGORIES:Efemérides
END:VEVENT
END:VCALENDAR