﻿BEGIN:VCALENDAR
VERSION:2.0
PRODID:-//Educación Neuquén - ECPv6.15.8//NONSGML v1.0//EN
CALSCALE:GREGORIAN
METHOD:PUBLISH
X-ORIGINAL-URL:https://www.neuquen.edu.ar
X-WR-CALDESC:Eventos para Educación Neuquén
REFRESH-INTERVAL;VALUE=DURATION:PT1H
X-Robots-Tag:noindex
X-PUBLISHED-TTL:PT1H
BEGIN:VTIMEZONE
TZID:America/Argentina/Cordoba
BEGIN:STANDARD
TZOFFSETFROM:-0300
TZOFFSETTO:-0300
TZNAME:-03
DTSTART:20210101T000000
END:STANDARD
END:VTIMEZONE
BEGIN:VEVENT
DTSTART;VALUE=DATE:20220615
DTEND;VALUE=DATE:20220616
DTSTAMP:20260422T044235
CREATED:20220622T124604Z
LAST-MODIFIED:20220622T144915Z
UID:27624-1655251200-1655337599@www.neuquen.edu.ar
SUMMARY:Día de la Provincia del Neuquén
DESCRIPTION:Desde 1884 y por casi 70 años\, Neuquén\, como los demás Territorios Nacionales fue administrado por el Estado Nacional. Recién durante la gestión de Juan Domingo Perón\, a partir de 1946\, se plantearían cambios profundos en la situación política de los mismos. En efecto\, en julio de 1951 la Ley 14.037 transformó a los territorios de Chaco y La Pampa en provincias. Dos años más tarde sucedió lo mismo con Misiones -Ley 14.294-. \n  \nFinalmente\, la sanción de la Ley 14.408 del 15 de junio de 1955 convirtió a Neuquén en provincia\, aunque el derrocamiento del presidente por parte de la Revolución Libertadora en septiembre de ese mismo año impondría una pausa en el proceso de construcción del Estado Neuquino y en el de efectivización de los derechos de ciudadanía de sus habitantes. \nLa iniciativa para crear y aprobar la legislación fue por parte de vecinos de distintas localidades\, que viajaron en tren a Buenos Aires y fueron recibidos por el entonces presidente. Allí reclamaron la provincialización y el derecho a sentirse ciudadanos en su propia tierra \nLa delegación que acudió al Congreso estaba formada por pobladores de Neuquén\, San Martín de los Andes\, Plaza Huincul y Zapala. Entre ellos se encontraba Eduardo Cortés Rearte –Comisionado de Neuquén-\, Perla Cónsoli\, Alfredo de Martín\, Marcelo Pessino\, Ricardo Rosa\, Roberto Linares\, Eduardo Chrestía\, Alfonso Creide –Comisionado de San Martín de los Andes-\, Wadad de Sarquis y Juan Sapaj\, además de obreros de Plaza Huincul.
URL:https://www.neuquen.edu.ar/event/dia-de-la-provincia-del-neuquen/
CATEGORIES:Efemérides
ATTACH;FMTTYPE=image/jpeg:https://www.neuquen.edu.ar/wp-content/uploads/2022/06/15_Dia-de-la-provincia-de-Neuquen_Post.jpg
END:VEVENT
END:VCALENDAR