﻿BEGIN:VCALENDAR
VERSION:2.0
PRODID:-//Educación Neuquén - ECPv6.15.8//NONSGML v1.0//EN
CALSCALE:GREGORIAN
METHOD:PUBLISH
X-WR-CALNAME:Educación Neuquén
X-ORIGINAL-URL:https://www.neuquen.edu.ar
X-WR-CALDESC:Eventos para Educación Neuquén
REFRESH-INTERVAL;VALUE=DURATION:PT1H
X-Robots-Tag:noindex
X-PUBLISHED-TTL:PT1H
BEGIN:VTIMEZONE
TZID:America/Argentina/Cordoba
BEGIN:STANDARD
TZOFFSETFROM:-0300
TZOFFSETTO:-0300
TZNAME:-03
DTSTART:20210101T000000
END:STANDARD
END:VTIMEZONE
BEGIN:VEVENT
DTSTART;VALUE=DATE:20220606
DTEND;VALUE=DATE:20220607
DTSTAMP:20260422T043702
CREATED:20220622T123734Z
LAST-MODIFIED:20220622T144916Z
UID:27605-1654473600-1654559999@www.neuquen.edu.ar
SUMMARY:Día de la Ingeniería Argentina.
DESCRIPTION:En esa fecha de 1870 egresó\, del Departamento de Ciencias Exactas de la Universidad de Buenos Aires\, el primer ingeniero civil argentino: Luis Augusto Huergo. \nEste profesional dedicó toda su vida a la ingeniería y durante su carrera profesional le prestó especial atención al tema elegido para su tesis y al desarrollo de una ingeniería que facilitara la navegación interior del país.
URL:https://www.neuquen.edu.ar/event/dia-de-la-ingenieria-argentina/
CATEGORIES:Efemérides
ATTACH;FMTTYPE=image/jpeg:https://www.neuquen.edu.ar/wp-content/uploads/2022/06/06_Dia-de-la-Ingenieria-Argentina-post.jpg
END:VEVENT
END:VCALENDAR