﻿BEGIN:VCALENDAR
VERSION:2.0
PRODID:-//Educación Neuquén - ECPv6.15.8//NONSGML v1.0//EN
CALSCALE:GREGORIAN
METHOD:PUBLISH
X-WR-CALNAME:Educación Neuquén
X-ORIGINAL-URL:https://www.neuquen.edu.ar
X-WR-CALDESC:Eventos para Educación Neuquén
REFRESH-INTERVAL;VALUE=DURATION:PT1H
X-Robots-Tag:noindex
X-PUBLISHED-TTL:PT1H
BEGIN:VTIMEZONE
TZID:America/Argentina/Cordoba
BEGIN:STANDARD
TZOFFSETFROM:-0300
TZOFFSETTO:-0300
TZNAME:-03
DTSTART:20210101T000000
END:STANDARD
END:VTIMEZONE
BEGIN:VEVENT
DTSTART;VALUE=DATE:20220605
DTEND;VALUE=DATE:20220606
DTSTAMP:20260422T043737
CREATED:20220622T123059Z
LAST-MODIFIED:20220622T144916Z
UID:27599-1654387200-1654473599@www.neuquen.edu.ar
SUMMARY:Día Mundial del Medio Ambiente
DESCRIPTION:La fecha fue establecida por la Organización de las Naciones Unidas (ONU) el 15 de diciembre de 1977. Coincide con el inicio de la Conferencia de Estocolmo en 1972\, cuyo tema principal fue precisamente el Medio Ambiente. \nLos objetivos principales de esta fecha son: motivar a las personas para que se conviertan en agentes activos del desarrollo sustentable y equitativo; promover el papel fundamental de las comunidades en el cambio de actitud hacia temas ambientales\, y fomentar la cooperación para que el medio ambiente sea sostenible\, pues esta garantizará que todas las naciones y personas disfruten de un futuro más próspero y seguro.
URL:https://www.neuquen.edu.ar/event/dia-mundial-del-medio-ambiente/
CATEGORIES:Efemérides
ATTACH;FMTTYPE=image/jpeg:https://www.neuquen.edu.ar/wp-content/uploads/2022/06/05_Dia-Mundial-Del-Medio-Ambiente-Post.jpg
END:VEVENT
END:VCALENDAR