﻿BEGIN:VCALENDAR
VERSION:2.0
PRODID:-//Educación Neuquén - ECPv6.15.8//NONSGML v1.0//EN
CALSCALE:GREGORIAN
METHOD:PUBLISH
X-WR-CALNAME:Educación Neuquén
X-ORIGINAL-URL:https://www.neuquen.edu.ar
X-WR-CALDESC:Eventos para Educación Neuquén
REFRESH-INTERVAL;VALUE=DURATION:PT1H
X-Robots-Tag:noindex
X-PUBLISHED-TTL:PT1H
BEGIN:VTIMEZONE
TZID:America/Argentina/Cordoba
BEGIN:STANDARD
TZOFFSETFROM:-0300
TZOFFSETTO:-0300
TZNAME:-03
DTSTART:20220101T000000
END:STANDARD
END:VTIMEZONE
BEGIN:VEVENT
DTSTART;VALUE=DATE:20230402
DTEND;VALUE=DATE:20230403
DTSTAMP:20260421T112759
CREATED:20230331T164635Z
LAST-MODIFIED:20230331T164635Z
UID:32267-1680393600-1680479999@www.neuquen.edu.ar
SUMMARY:Día del Veterano y los Caídos en la guerra de Malvinas (1982) – Ley 25.370
DESCRIPTION:La conmemoración del 2 de Abril como el Día del Veterano y de los Caídos en la guerra de Malvinas fue establecida por Ley del Congreso Nacional en el año 2000 con el objetivo de fortalecer la construcción de la memoria colectiva\, junto con el recuerdo y el merecido homenaje a los caídos\, las veteranas y los veteranos de la guerra de Malvinas y sus familiares.
URL:https://www.neuquen.edu.ar/event/dia-del-veterano-y-los-caidos-en-la-guerra-de-malvinas-1982-ley-25-370/
CATEGORIES:Efemérides
ATTACH;FMTTYPE=image/jpeg:https://www.neuquen.edu.ar/wp-content/uploads/2023/03/02_Dia-del-veterano-y-los-caidos-de-malvinas-web.jpg
END:VEVENT
BEGIN:VEVENT
DTSTART;VALUE=DATE:20230402
DTEND;VALUE=DATE:20230403
DTSTAMP:20260421T112759
CREATED:20230331T164945Z
LAST-MODIFIED:20230331T164945Z
UID:32281-1680393600-1680479999@www.neuquen.edu.ar
SUMMARY:CES- Día Mundial de la Concientización sobre el Autismo
DESCRIPTION:La Asamblea General de las Naciones Unidas declaró por unanimidad el 2 de abril como el Día Mundial de Concientización sobre el Autismo (A/RES/62/139). Una fecha que invita a reafirmar el compromiso por la igualdad\, la equidad y la inclusión\, promoviendo derechos y oportunidades.
URL:https://www.neuquen.edu.ar/event/ces-dia-mundial-de-la-concientizacion-sobre-el-autismo/
CATEGORIES:Efemérides
ATTACH;FMTTYPE=image/jpeg:https://www.neuquen.edu.ar/wp-content/uploads/2023/03/02_CES_Dia-Mundial-de-la-Concientizacion-sobre-el-Autismo-web.jpg
END:VEVENT
BEGIN:VEVENT
DTSTART;VALUE=DATE:20230406
DTEND;VALUE=DATE:20230407
DTSTAMP:20260421T112759
CREATED:20230331T165116Z
LAST-MODIFIED:20230331T165530Z
UID:32287-1680739200-1680825599@www.neuquen.edu.ar
SUMMARY:CES – Día Mundial de la Actividad física y la Salud.
DESCRIPTION:Fecha instaurada desde el 2002\, con el fin de promover la importancia de realizar deporte de forma regular para cuidar la salud y surge de una iniciativa de la Organización Mundial de la Salud (OMS). \nLa Organización Mundial de la Salud (OMS) define a la actividad física como “todos los movimientos que forman parte de la vida diaria\, incluyendo el trabajo\, la recreación\, el ejercicio y las actividades deportivas».
URL:https://www.neuquen.edu.ar/event/ces-dia-mundial-de-la-actividad-fisica-y-la-salud/
CATEGORIES:Efemérides
ATTACH;FMTTYPE=image/jpeg:https://www.neuquen.edu.ar/wp-content/uploads/2023/03/06_CES-Dia-Mundial-de-la-Actividad-fisica-y-la-Salud-web.jpg
END:VEVENT
BEGIN:VEVENT
DTSTART;VALUE=DATE:20230410
DTEND;VALUE=DATE:20230411
DTSTAMP:20260421T112759
CREATED:20230331T165653Z
LAST-MODIFIED:20230331T165653Z
UID:32291-1681084800-1681171199@www.neuquen.edu.ar
SUMMARY:Día de la Ciencia y la Tecnología (Decreto 1749/1982).
DESCRIPTION:La fecha fue establecida en 1982 por la Conferencia General de la Unesco en honor al nacimiento del Dr. Bernardo Houssay (1887)\, médico y farmacéutico. Actualmente\, esta fecha también simboliza un reconocimiento a la labor de todas aquellas personas que trabajan en la investigación o realizan estudios científicos en pos de mejorar la calidad y las condiciones de vida humana. \n 
URL:https://www.neuquen.edu.ar/event/dia-de-la-ciencia-y-la-tecnologia-decreto-1749-1982/
CATEGORIES:Efemérides
ATTACH;FMTTYPE=image/jpeg:https://www.neuquen.edu.ar/wp-content/uploads/2023/03/10_Dia-de-la-Ciencia-y-la-Tecnologia-Decreto-1749-1982-web.jpg
END:VEVENT
BEGIN:VEVENT
DTSTART;VALUE=DATE:20230417
DTEND;VALUE=DATE:20230418
DTSTAMP:20260421T112759
CREATED:20230331T165753Z
LAST-MODIFIED:20230331T165753Z
UID:32294-1681689600-1681775999@www.neuquen.edu.ar
SUMMARY:Día del Profesor Neuquino (Ley 1876 / Decreto N° 5164/1991).
DESCRIPTION:La fecha fue instituida en 1990 y conmemora la creación del primer centro provincial de enseñanza media (CPEM) en la provincia del Neuquén.
URL:https://www.neuquen.edu.ar/event/dia-del-profesor-neuquino-ley-1876-decreto-n-5164-1991/
CATEGORIES:Efemérides
ATTACH;FMTTYPE=image/jpeg:https://www.neuquen.edu.ar/wp-content/uploads/2023/03/17Dia-del-Profesor-Neuquino-Ley-1876-Decreto-N°-5164-1991-web.jpg
END:VEVENT
BEGIN:VEVENT
DTSTART;VALUE=DATE:20230418
DTEND;VALUE=DATE:20230425
DTSTAMP:20260421T112759
CREATED:20230331T165904Z
LAST-MODIFIED:20230331T170013Z
UID:32297-1681776000-1682380799@www.neuquen.edu.ar
SUMMARY:CES- Semana de los Pueblos Originarios.
DESCRIPTION:Del 18 al 24 de abril se conmemora la Semana de los Pueblos Originarios con el objetivo de propiciar el conocimiento de la preexistencia del pueblo indígena\, como así también promover el derecho a su identidad étnica y cultural. En la provincia del Neuquén se realizan diferentes propuestas para acercar el conocimiento de la cultura mapuche a toda la comunidad.
URL:https://www.neuquen.edu.ar/event/ces-semana-de-los-pueblos-originarios/
CATEGORIES:Efemérides
ATTACH;FMTTYPE=image/jpeg:https://www.neuquen.edu.ar/wp-content/uploads/2023/03/18-24_CES-Semana-de-los-Pueblos-Originarios-web.jpg
END:VEVENT
BEGIN:VEVENT
DTSTART;VALUE=DATE:20230419
DTEND;VALUE=DATE:20230420
DTSTAMP:20260421T112759
CREATED:20230331T170124Z
LAST-MODIFIED:20230331T170124Z
UID:32300-1681862400-1681948799@www.neuquen.edu.ar
SUMMARY:Día de la Convivencia en la Diversidad Cultural.
DESCRIPTION:Cada 19 de abril se recuerda el levantamiento del Ghetto de Varsovia (1943). La fecha busca homenajear a las víctimas del holocausto durante la Segunda Guerra Mundial y para fomentar la paz\, la defensa de la libertad y el respeto por la condición humana.
URL:https://www.neuquen.edu.ar/event/dia-de-la-convivencia-en-la-diversidad-cultural/
CATEGORIES:Efemérides
ATTACH;FMTTYPE=image/jpeg:https://www.neuquen.edu.ar/wp-content/uploads/2023/03/19_Dia-de-la-Convivencia-en-la-Diversidad-Cultural-web.jpg
END:VEVENT
BEGIN:VEVENT
DTSTART;VALUE=DATE:20230422
DTEND;VALUE=DATE:20230423
DTSTAMP:20260421T112759
CREATED:20230331T170239Z
LAST-MODIFIED:20230331T170239Z
UID:32303-1682121600-1682207999@www.neuquen.edu.ar
SUMMARY:Día Mundial de la Tierra.
DESCRIPTION:En 2009\, la Organización de las Naciones Unidas (ONU) declaró este día para tomar conciencia sobre las distintas problemáticas ambientales y avanzar en agendas que tengan como eje el cuidado del ambiente\, de manera saludable y sostenible frente al cambio climático.
URL:https://www.neuquen.edu.ar/event/dia-mundial-de-la-tierra/
CATEGORIES:Efemérides
ATTACH;FMTTYPE=image/jpeg:https://www.neuquen.edu.ar/wp-content/uploads/2023/03/22_Dia-Mundial-de-la-Tierra-web.jpg
END:VEVENT
BEGIN:VEVENT
DTSTART;VALUE=DATE:20230423
DTEND;VALUE=DATE:20230424
DTSTAMP:20260421T112759
CREATED:20230331T170427Z
LAST-MODIFIED:20230331T170427Z
UID:32306-1682208000-1682294399@www.neuquen.edu.ar
SUMMARY:Día Mundial del Libro y los Derechos de Autor.
DESCRIPTION:En 1995\, la Conferencia General de la Unesco\, estableció esta fecha con el objetivo de rendir un homenaje universal a los libros y autores\, alentando a descubrir el placer de la lectura y a valorar las contribuciones de aquellos que han impulsado el progreso social y cultural de la humanidad.
URL:https://www.neuquen.edu.ar/event/dia-mundial-del-libro-y-los-derechos-de-autor/
CATEGORIES:Efemérides
ATTACH;FMTTYPE=image/jpeg:https://www.neuquen.edu.ar/wp-content/uploads/2023/03/23_Dia-Mundial-del-Libro-y-los-Derechos-de-Autor-web.jpg
END:VEVENT
BEGIN:VEVENT
DTSTART;VALUE=DATE:20230428
DTEND;VALUE=DATE:20230429
DTSTAMP:20260421T112759
CREATED:20230331T170526Z
LAST-MODIFIED:20230331T170526Z
UID:32309-1682640000-1682726399@www.neuquen.edu.ar
SUMMARY:Día Internacional de las niñas en las Tecnologías de la Información y la comunicación (TIC).
DESCRIPTION:El objetivo principal de esta jornada es incentivar a las niñas y mujeres a orientar sus estudios y profesiones al campo creciente de las Tecnologías de la Información y la Comunicación (TIC) para achicar la brecha digital de géneros existente. \n 
URL:https://www.neuquen.edu.ar/event/dia-internacional-de-las-ninas-en-las-tecnologias-de-la-informacion-y-la-comunicacion-tic/
CATEGORIES:Efemérides
ATTACH;FMTTYPE=image/jpeg:https://www.neuquen.edu.ar/wp-content/uploads/2023/03/28_Dia-Internacional-de-las-ninas-en-las-TIC_web.jpg
END:VEVENT
END:VCALENDAR