﻿BEGIN:VCALENDAR
VERSION:2.0
PRODID:-//Educación Neuquén - ECPv6.15.8//NONSGML v1.0//EN
CALSCALE:GREGORIAN
METHOD:PUBLISH
X-WR-CALNAME:Educación Neuquén
X-ORIGINAL-URL:https://www.neuquen.edu.ar
X-WR-CALDESC:Eventos para Educación Neuquén
REFRESH-INTERVAL;VALUE=DURATION:PT1H
X-Robots-Tag:noindex
X-PUBLISHED-TTL:PT1H
BEGIN:VTIMEZONE
TZID:America/Argentina/Cordoba
BEGIN:STANDARD
TZOFFSETFROM:-0300
TZOFFSETTO:-0300
TZNAME:-03
DTSTART:20220101T000000
END:STANDARD
END:VTIMEZONE
BEGIN:VEVENT
DTSTART;VALUE=DATE:20230210
DTEND;VALUE=DATE:20230211
DTSTAMP:20260421T141536
CREATED:20230202T172147Z
LAST-MODIFIED:20230203T161239Z
UID:31317-1675987200-1676073599@www.neuquen.edu.ar
SUMMARY:Sanción de la Ley 8871: Ley del Sufragio Universal.
DESCRIPTION:10 de febrero – Sanción de la Ley 8871: Ley del Sufragio Universal.\n\n¿Sabías qué? El 10 de febrero se sancionó la Ley Saenz Peña. \nLa Ley del Sufragio Universal o Ley Sáenz Peña desechó el voto calificado y estableció el sufragio a universal\, secreto y obligatorio y el sistema de lista incompleta\, con lo que se dio representación legislativa a la minoría. Si bien la ley no era tan universal\, porque seguía siendo exclusiva para nativos argentinos y naturales masculinos y mayores de 18 años\, su mérito fue poner fin al fraude y al soborno. \n  \n 
URL:https://www.neuquen.edu.ar/event/sancion-de-la-ley-8871-ley-del-sufragio-universal/
CATEGORIES:Efemérides
ATTACH;FMTTYPE=image/jpeg:https://www.neuquen.edu.ar/wp-content/uploads/2023/02/10_Dia-del-sufragio-Universal-web.jpg
END:VEVENT
BEGIN:VEVENT
DTSTART;VALUE=DATE:20230211
DTEND;VALUE=DATE:20230212
DTSTAMP:20260421T141536
CREATED:20230203T153712Z
LAST-MODIFIED:20230203T173712Z
UID:31339-1676073600-1676159999@www.neuquen.edu.ar
SUMMARY:Día internacional de la mujer y la niña en la ciencia
DESCRIPTION:11 de febrero – Día Internacional de la mujer y la niña en la ciencia.\n¿Sabías qué? El 11 de febrero es el Día Internacional de la mujer y la niña en la ciencia. \nCon el objetivo de lograr el acceso y la participación plena y equitativa en la ciencia para las mujeres y las niñas\, y además para lograr su empoderamiento y la igualdad de género\, la Asamblea General de las Naciones Unidas proclamó esta fecha a través de la Resolución A/RES/70/212.
URL:https://www.neuquen.edu.ar/event/dia-internacional-de-la-mujer-y-la-nina-en-la-ciencia/
CATEGORIES:Efemérides
ATTACH;FMTTYPE=image/jpeg:https://www.neuquen.edu.ar/wp-content/uploads/2023/02/11_Dia-Internacional-de-la-mujer-y-la-nina-en-la-ciencia-web.jpg
END:VEVENT
BEGIN:VEVENT
DTSTART;VALUE=DATE:20230214
DTEND;VALUE=DATE:20230215
DTSTAMP:20260421T141536
CREATED:20230203T153841Z
LAST-MODIFIED:20230203T173758Z
UID:31344-1676332800-1676419199@www.neuquen.edu.ar
SUMMARY:Día Nacional de la Energía.
DESCRIPTION:14 de febrero – Día Nacional de la Energía\n¿Sabías qué? El 14 de febrero es el Día Nacional de la Energía. \nEsta fecha se celebra en Argentina con el objetivo de promover el uso de fuentes alternativas y disminuir el uso de las energías no renovables. \nComo política ambiental\, la energía renovable es una parte vital de la solución para mitigar el cambio climático global\, ya que facilita y promueve el desarrollo sostenible y bajo en carbono\, como así también\, fomenta beneficios socioeconómicos sustanciales a largo plazo. \n  \n 
URL:https://www.neuquen.edu.ar/event/dia-nacional-de-la-energia/
CATEGORIES:Efemérides
ATTACH;FMTTYPE=image/jpeg:https://www.neuquen.edu.ar/wp-content/uploads/2023/02/14_Dia-Nacional-de-la-Energia-web.jpg
END:VEVENT
BEGIN:VEVENT
DTSTART;VALUE=DATE:20230215
DTEND;VALUE=DATE:20230216
DTSTAMP:20260421T141536
CREATED:20230203T154008Z
LAST-MODIFIED:20230203T175500Z
UID:31347-1676419200-1676505599@www.neuquen.edu.ar
SUMMARY:Nacimiento de Don Domingo Faustino Sarmiento (1811)
DESCRIPTION:15 de febrero  – Nacimiento de Don Domingo Faustino Sarmiento (1811)\n  \n¿Sabías qué? El 15 de febrero se conmemora el nacimiento de Don Faustino Sarmiento. \nEducador\, hombre de estado y escritor\, nació el 14 de febrero de 1811 en la provincia de San Juan. Fue maestro rural y culminó siendo presidente de la Argentina fundando las bases para un futuro progreso en la educación. \nEn su mandato impulsó el crecimiento del comercio y la agricultura\, así como también del transporte y la comunicación. \n 
URL:https://www.neuquen.edu.ar/event/nacimiento-de-don-domingo-faustino-sarmiento-1811/
CATEGORIES:Efemérides
ATTACH;FMTTYPE=image/jpeg:https://www.neuquen.edu.ar/wp-content/uploads/2023/02/15_Dia-del-nacimiento-Don-Faustino-Sarmiento-web-1.jpg
END:VEVENT
BEGIN:VEVENT
DTSTART;VALUE=DATE:20230221
DTEND;VALUE=DATE:20230222
DTSTAMP:20260421T141536
CREATED:20230203T154247Z
LAST-MODIFIED:20230203T175213Z
UID:31350-1676937600-1677023999@www.neuquen.edu.ar
SUMMARY:Día Internacional de la Lengua Materna
DESCRIPTION:21 de febrero – Día Internacional de la Lengua Materna\n¿Sabías qué? El 21 de febrero es el Día Internacional de la Lengua Materna. \nLa fecha fue establecida en noviembre del 1999 por la UNESCO con el objetivo de promover el multilingüismo y la diversidad cultural. \nEsta organización se encuentra trabajando para preservar las diferencias de culturas e idiomas que fomentan la tolerancia\, el respeto y la inclusión. \n  \n 
URL:https://www.neuquen.edu.ar/event/dia-internacional-de-la-lengua-materna/
CATEGORIES:Efemérides
ATTACH;FMTTYPE=image/jpeg:https://www.neuquen.edu.ar/wp-content/uploads/2023/02/21_Dia-Internacional-de-la-lengua-materna-web-1.jpg
END:VEVENT
BEGIN:VEVENT
DTSTART;VALUE=DATE:20230225
DTEND;VALUE=DATE:20230226
DTSTAMP:20260421T141536
CREATED:20230203T154429Z
LAST-MODIFIED:20230203T174542Z
UID:31353-1677283200-1677369599@www.neuquen.edu.ar
SUMMARY:Conmemoración del Nacimiento del General José de San Martín (1778)
DESCRIPTION:25 de febrero – Conmemoración del Nacimiento del General José de San Martín (1778)\n¿Sabías qué? El 25 de febrero se conmemora el nacimiento del General José de San Martín. \nEl 25 de febrero de 1778 nace en Yapeyú\, el menor de cinco hermanos del matrimonio de Don Juan de San Martín y Gregoria Matorras. La provincia de Mendoza guarda los recuerdos del paso del General en los numerosos lugares que fueron escenarios de su gestión como Gobernador\, Intendente y Jefe del Ejército de los Andes. \n  \n 
URL:https://www.neuquen.edu.ar/event/conmemoracion-del-nacimiento-del-general-jose-de-san-martin-1778/
CATEGORIES:Efemérides
ATTACH;FMTTYPE=image/jpeg:https://www.neuquen.edu.ar/wp-content/uploads/2023/02/25-Nacimiento-Jose-de-San-Martin-web.jpg
END:VEVENT
BEGIN:VEVENT
DTSTART;VALUE=DATE:20230227
DTEND;VALUE=DATE:20230228
DTSTAMP:20260421T141536
CREATED:20230203T154611Z
LAST-MODIFIED:20230203T174605Z
UID:31356-1677456000-1677542399@www.neuquen.edu.ar
SUMMARY:Conmemoración del primer izamiento de la Bandera Nacional a orillas del Río Paraná\, por el General Don Manuel Belgrano (1812)
DESCRIPTION:27 de febrero – Conmemoración del primer izamiento de la Bandera Nacional a orillas del Río Paraná\, por el General Don Manuel Belgrano (1812)\n\n¿Sabías qué? El 27 de febrero se conmemora el primer izamiento de la Bandera Nacional por el General Manuel Belgrano. \nEl 27 de febrero de 1812\, a orillas del río Paraná\, Manuel Belgrano izo por primera vez la enseña albiceleste con los mismos colores de la escarapela nacional. \n  \n  \n 
URL:https://www.neuquen.edu.ar/event/conmemoracion-del-primer-izamiento-de-la-bandera-nacional-a-orillas-del-rio-parana-por-el-general-don-manuel-belgrano-1812/
CATEGORIES:Efemérides
ATTACH;FMTTYPE=image/jpeg:https://www.neuquen.edu.ar/wp-content/uploads/2023/02/27_Conmemoracion-del-primer-Izamiento-de-la-bandera-nacional-web.jpg
END:VEVENT
END:VCALENDAR