﻿BEGIN:VCALENDAR
VERSION:2.0
PRODID:-//Educación Neuquén - ECPv6.15.8//NONSGML v1.0//EN
CALSCALE:GREGORIAN
METHOD:PUBLISH
X-WR-CALNAME:Educación Neuquén
X-ORIGINAL-URL:https://www.neuquen.edu.ar
X-WR-CALDESC:Eventos para Educación Neuquén
REFRESH-INTERVAL;VALUE=DURATION:PT1H
X-Robots-Tag:noindex
X-PUBLISHED-TTL:PT1H
BEGIN:VTIMEZONE
TZID:America/Argentina/Cordoba
BEGIN:STANDARD
TZOFFSETFROM:-0300
TZOFFSETTO:-0300
TZNAME:-03
DTSTART:20210101T000000
END:STANDARD
END:VTIMEZONE
BEGIN:VEVENT
DTSTART;VALUE=DATE:20221203
DTEND;VALUE=DATE:20221204
DTSTAMP:20260421T173109
CREATED:20221130T144452Z
LAST-MODIFIED:20221130T172312Z
UID:30373-1670025600-1670111999@www.neuquen.edu.ar
SUMMARY:Día Internacional de las personas con discapacidad
DESCRIPTION:La fecha fue instituida en 1992 por la Asamblea General de las Naciones Unidas mediante la resolución 47/3. El objetivo es promover los derechos y el bienestar de las personas con discapacidades en todos los ámbitos de la sociedad y el desarrollo\, así como concienciar sobre su situación en todos los aspectos de la vida política\, social\, económica y cultural. \nEn la actualidad\, la población mundial supera los siete mil millones de personas y más de mil millones de personas\, aproximadamente el 15 por ciento de la población mundial\, viven con algún tipo de discapacidad y el 80 por ciento vive en países en desarrollo. \nLo que significa ser discapacitado\nLa discapacidad es una condición que afecta el nivel de vida de un individuo o de un grupo. El término se usa para definir una deficiencia física o mental\, como la discapacidad sensorial\, cognitiva o intelectual\, la enfermedad mental o varios tipos de enfermedades crónicas. \nLas personas con discapacidad\, la «minoría más amplia del mundo»\, suelen tener menos oportunidades económicas\, peor acceso a la educación y tasas de pobreza más altas. Eso se debe principalmente a la falta de servicios que les puedan facilitar la vida (como acceso a la información o al transporte) y porque tienen menos recursos para defender sus derechos. A estos obstáculos cotidianos se suman la discriminación social y la falta de legislación adecuada para proteger a los discapacitados. \nLas personas con discapacidad corren más peligro de ser víctimas de la violencia: \n\nLos niños discapacitados tienen cuatro veces más posibilidades de ser víctimas de actos violentos.\nLos adultos con algún tipo de discapacidad tienen 1\,5 veces más posibilidades de sufrir violencia.\nLos adultos con problemas mentales tienen cuatro veces más posibilidades de ser víctimas de la violencia.\n\nLa ignorancia es en gran parte responsable de la estigmatización y la discriminación que padecen las personas discapacitadas. \nUna sociedad incluyente\nEstá ampliamente demostrado que\, una vez eliminados los obstáculos a la integración de las personas discapacitadas\, estas pueden participar activa y productivamente en la vida social y económica de sus comunidades. Por este motivo\, es necesario eliminar las barreras de la asimilación de los discapacitados a la sociedad. \nLa Convención sobre los Derechos de las Personas con Discapacidad reconoce que la existencia de estas barreras es un componente esencial de su marginación. La Convención subraya que la discapacidad es un concepto evolutivo «resultado de la interacción de las personas con disfunciones y de problemas de actitud y de entorno que socavan su participación en la sociedad». \nLa accesibilidad y la inclusión de las personas con discapacidad son derechos fundamentales reconocidos por la Convención sobre los Derechos de las Personas con Discapacidades. Son las condiciones sin las cuales no pueden disfrutar de sus otros derechos. La Convención (artículo 9) pide que las personas con discapacidad puedan llevar una vida independiente y participar de forma activa en el desarrollo de la sociedad. Solicita a los Estados que tomen las medidas apropiadas para darles pleno acceso a la actividad cotidiana y eliminar todos los obstáculos a su integración. \nDías Internacionales relacionados\n4 de enero: Día Mundial del Braille \n21 de marzo: Día Mundial del Síndrome de Down \n2  de abril: Día Mundial de Concienciación sobre el Autismo \n23 de septiembre: Día Internacional de las Lenguas de Señas \n10 de diciembre: Día de los Derechos Humanos \nFuente: https://www.un.org/es/observances/day-of-persons-with-disabilities
URL:https://www.neuquen.edu.ar/event/dia-internacional-de-las-personas-con-discapacidad/
CATEGORIES:Efemérides
ATTACH;FMTTYPE=image/jpeg:https://www.neuquen.edu.ar/wp-content/uploads/2022/11/03_Dia-Internacional-de-las-personas-con-discapacidad-web-1.jpg
END:VEVENT
BEGIN:VEVENT
DTSTART;VALUE=DATE:20221205
DTEND;VALUE=DATE:20221206
DTSTAMP:20260421T173109
CREATED:20221130T144649Z
LAST-MODIFIED:20221130T144649Z
UID:30376-1670198400-1670284799@www.neuquen.edu.ar
SUMMARY:Día mundial del voluntario
DESCRIPTION:Este día supone una oportunidad única para agradecer todos los esfuerzos realizados por los voluntarios y sus organizaciones\, así como promover sus valores y dar a conocer los logros que consiguen en sus comunidades\, ya sea a través de organizaciones no gubernamentales (ONGs)\, agencias de las Naciones Unidas\, organismos gubernamentales o el sector privado. \nLa inspiración en acción\nEl voluntariado es clave para la transformación social\, ambiental y económica. Es capaz de cambiar las mentalidades\, actitudes y comportamientos de las personas. Estas se convierten en agentes del cambio y asociados en igualdad de condiciones en el logro del progreso local\, nacional e internacional hacia el desarrollo humano sostenible y la paz mundial. El programa de Voluntarios de la ONU reconoce los valores universales compartidos que sustentan el voluntariado;  libre elección\, compromiso\, equidad\, compromiso\, solidaridad\, compasión\, empatía y respeto por los demás.\n\nFuente: https://www.un.org/es/observances/volunteer-day
URL:https://www.neuquen.edu.ar/event/dia-mundial-del-voluntario/
CATEGORIES:Efemérides
ATTACH;FMTTYPE=image/jpeg:https://www.neuquen.edu.ar/wp-content/uploads/2022/11/05_Dia-mundial-del-voluntario-web.jpg
END:VEVENT
BEGIN:VEVENT
DTSTART;VALUE=DATE:20221210
DTEND;VALUE=DATE:20221211
DTSTAMP:20260421T173109
CREATED:20221130T150121Z
LAST-MODIFIED:20221130T150318Z
UID:30380-1670630400-1670716799@www.neuquen.edu.ar
SUMMARY:Día de la Restauración de la Democracia
DESCRIPTION:En el año 2007\, a través de la Ley 26323\, el Congreso de la Nación instituyó esta fecha con el objetivo de conmemorar la vuelta a la democracia sucedida en 1983\, cuando asumió la presidencia el Dr. Raúl Alfonsín\, y luego de que Argentina transitara la Dictadura cívico-militar de su historia durante siete años. \nLa fecha es celebrada en todo el territorio nacional con el fin de promover los valores democráticos y resaltar su significado histórico\, político y social. \nLa vuelta a la democracia en Argentina fue un acontecimiento enorme al que dieron origen distintos sectores\, desde gremios\, dirigentes y organizaciones sociales\, hasta agrupaciones estudiantiles\, políticas\, barriales y organizaciones no gubernamentales que durante toda la dictadura se mantuvieron en lucha y articularon distintas actividades y disputas hasta vencerla y  retomar la forma democrática de Estado.  
URL:https://www.neuquen.edu.ar/event/dia-de-la-restauracion-de-la-democracia/
CATEGORIES:Efemérides
ATTACH;FMTTYPE=image/jpeg:https://www.neuquen.edu.ar/wp-content/uploads/2022/11/10_Dia-de-la-restauracion-de-la-democracia-web.jpg
END:VEVENT
BEGIN:VEVENT
DTSTART;VALUE=DATE:20221210
DTEND;VALUE=DATE:20221211
DTSTAMP:20260421T173109
CREATED:20221130T151253Z
LAST-MODIFIED:20221130T151253Z
UID:30383-1670630400-1670716799@www.neuquen.edu.ar
SUMMARY:Día Internacional de la Declaración de los Derechos Humanos
DESCRIPTION:Esta fecha es celebrada desde 1950 y que conmemora la sanción de la Declaración Universal de los Derechos Humanos\, documento en que se asientan principios morales\, garantías fundamentales y derechos inalienables de todas las personas que habitan este mundo. \nEl documento\, que tiene carácter internacional\, cuenta con un preámbulo y treinta artículos en total\, los cuales atienden a aspectos cívicos\, políticos\, morales\, éticos\, económicos\, sociales y culturales\, son considerados básicos para el óptimo desarrollo de los seres humanos. \nEsta Declaración encuentra su origen y principales motivos luego de la Segunda Guerra Mundial\, cuando se cometieron secuestros\, torturas\, persecuciones y asesinatos masivos\, sin embargo\, sus antecedentes o fuentes legales y normativas pueden encontrarse en los albores del siglo XVII; en Inglaterra\, con la incorporación del recurso y ley del hábeas corpus y posteriormente con la Declaración de Derechos (Bill of Right)\, y en Francia\, ya en el siglo XVIII\, luego de la Revolución Francesa y su posterior Declaración de los Derechos del Hombre y el Ciudadano. \nSi bien la Declaración no tiene carácter obligatorio para los países del mundo\, lo cierto es que funciona bajo un espíritu orientador para la comunidad internacional\, a la vez que lo hace como una exhortación ética y moral a los Estados del mundo en relación a la disposición y reglamentación de sus poblaciones con el objetivo de mejorar sus calidades de vida y aumentar sus posibilidades de desarrollo. En el caso particular de Argentina\, incluye la Declaración y le da jerarquía constitucional a partir de la reforma de 1994. De esta manera\, nuestra Constitución sitúa la Declaración Universal de Derechos Humanos —junto con otros tratados y normativas internacionales—\, en la misma jerarquía que tiene la propia Constitución. \nLa Declaración Universal de los Derechos Humanos es el cuerpo legal al cual pueden apelar las poblaciones y los Estados del mundo en posibles casos de violaciones a la integridad de los ciudadanos del mundo\, ya sea en su aspecto moral\, libertad física y de pensamiento o culto\, posibilidades de libre circulación\, etc.\, de manera que podrían considerarse como la fuente a la cual acudir una vez agotadas las instancias y documentos legales básicos y fundamentales dispuestos por cada Estado.
URL:https://www.neuquen.edu.ar/event/dia-internacional-de-la-declaracion-de-los-derechos-humanos/
CATEGORIES:Efemérides
ATTACH;FMTTYPE=image/jpeg:https://www.neuquen.edu.ar/wp-content/uploads/2022/11/10_Dia-Internacional-de-la-declaracion-de-los-derechos-humanos-web.jpg
END:VEVENT
END:VCALENDAR