﻿BEGIN:VCALENDAR
VERSION:2.0
PRODID:-//Educación Neuquén - ECPv6.15.8//NONSGML v1.0//EN
CALSCALE:GREGORIAN
METHOD:PUBLISH
X-WR-CALNAME:Educación Neuquén
X-ORIGINAL-URL:https://www.neuquen.edu.ar
X-WR-CALDESC:Eventos para Educación Neuquén
REFRESH-INTERVAL;VALUE=DURATION:PT1H
X-Robots-Tag:noindex
X-PUBLISHED-TTL:PT1H
BEGIN:VTIMEZONE
TZID:America/Argentina/Cordoba
BEGIN:STANDARD
TZOFFSETFROM:-0300
TZOFFSETTO:-0300
TZNAME:-03
DTSTART:20210101T000000
END:STANDARD
END:VTIMEZONE
BEGIN:VEVENT
DTSTART;TZID=America/Argentina/Cordoba:20230313T080000
DTEND;TZID=America/Argentina/Cordoba:20230406T170000
DTSTAMP:20260421T084443
CREATED:20230327T173908Z
LAST-MODIFIED:20230327T173908Z
UID:32200-1678694400-1680800400@www.neuquen.edu.ar
SUMMARY:Inscripción de proyectos 2023 para Feria de Ciencias
DESCRIPTION:
URL:https://www.neuquen.edu.ar/event/inscripcion-de-proyectos-2023-para-feria-de-ciencias/
CATEGORIES:Agenda
END:VEVENT
BEGIN:VEVENT
DTSTART;TZID=America/Argentina/Cordoba:20230313T080000
DTEND;TZID=America/Argentina/Cordoba:20230313T170000
DTSTAMP:20260421T084443
CREATED:20230201T165647Z
LAST-MODIFIED:20230201T165647Z
UID:31282-1678694400-1678726800@www.neuquen.edu.ar
SUMMARY:Período Febrero – Marzo (Superior) | Inicio Período Lectivo y Término Lectivo (*) 
DESCRIPTION:13/03 | Período Febrero – Marzo (Superior) | Inicio Período Lectivo y Término Lectivo (*) \n  \n*Período Lectivo  \nLapso por el cual se desarrolla el término lectivo y las actividades propias del quehacer institucional\, previas\, posteriores a dicho termino\, a los que la/el docente cualquiera sea su situación de revista debe obligatoriamente asistir. \n*Término Lectivo  \nPeríodo comprendido entre el inicio de clases y la finalización de las actividades programadas para el logro de los objetivos de enseñanza y aprendizaje del año escolar. \n  \nVer más info: \nCES – Calendario Escolar Situado \n \n  \n 
URL:https://www.neuquen.edu.ar/event/periodo-febrero-marzo-superior-inicio-periodo-lectivo-y-termino-lectivo/
CATEGORIES:Agenda
END:VEVENT
BEGIN:VEVENT
DTSTART;TZID=America/Argentina/Cordoba:20230301T080000
DTEND;TZID=America/Argentina/Cordoba:20230301T170000
DTSTAMP:20260421T084443
CREATED:20230201T165502Z
LAST-MODIFIED:20230201T165510Z
UID:31280-1677657600-1677690000@www.neuquen.edu.ar
SUMMARY:Período Febrero – Febrero (Secundario) | Inicio Término Lectivo (*)
DESCRIPTION:01/03 | Período Febrero – Febrero (Secundario) | Inicio Término Lectivo (*)\n  \n*Término Lectivo\nPeríodo comprendido entre el inicio de clases y la finalización de las actividades programadas para el logro de los objetivos de enseñanza y aprendizaje del año escolar. \n 
URL:https://www.neuquen.edu.ar/event/periodo-febrero-febrero-secundario-inicio-termino-lectivo/
CATEGORIES:Agenda
END:VEVENT
BEGIN:VEVENT
DTSTART;TZID=America/Argentina/Cordoba:20230301T080000
DTEND;TZID=America/Argentina/Cordoba:20230301T170000
DTSTAMP:20260421T084443
CREATED:20230201T165336Z
LAST-MODIFIED:20230201T165336Z
UID:31278-1677657600-1677690000@www.neuquen.edu.ar
SUMMARY:Período Marzo-Diciembre (Inicial\, Primario) | Inicio Término Lectivo (*)
DESCRIPTION:01/03 | Período Marzo-Diciembre (Inicial\, Primario) | Inicio Término Lectivo (*)\n  \n*Término Lectivo\nPeríodo comprendido entre el inicio de clases y la finalización de las actividades programadas para el logro de los objetivos de enseñanza y aprendizaje del año escolar. \n  \nVer más info: \nCES – Calendario Escolar Situado \n \n 
URL:https://www.neuquen.edu.ar/event/periodo-marzo-diciembre-inicial-primario-inicio-termino-lectivo/
CATEGORIES:Agenda
END:VEVENT
BEGIN:VEVENT
DTSTART;TZID=America/Argentina/Cordoba:20230223T080000
DTEND;TZID=America/Argentina/Cordoba:20230223T170000
DTSTAMP:20260421T084443
CREATED:20230201T164711Z
LAST-MODIFIED:20230201T164711Z
UID:31268-1677139200-1677171600@www.neuquen.edu.ar
SUMMARY:Período Febrero – Febrero (Secundario) | Fin Período Escolar (*)
DESCRIPTION:23/02 | Período Febrero – Febrero (Secundario) | Fin Período Escolar (*) \n*Período Escolar\nTiempo durante el cual se desarrolla el Ciclo lectivo y las actividades previas y posteriores a este\, para el logro de los objetivos educacionales. \n  \nVer más info: \nCES – Calendario Escolar Situado \n \n 
URL:https://www.neuquen.edu.ar/event/periodo-febrero-febrero-secundario-fin-periodo-escolar/
CATEGORIES:Agenda
END:VEVENT
BEGIN:VEVENT
DTSTART;TZID=America/Argentina/Cordoba:20230213T080000
DTEND;TZID=America/Argentina/Cordoba:20230213T170000
DTSTAMP:20260421T084443
CREATED:20230201T164511Z
LAST-MODIFIED:20230201T164511Z
UID:31266-1676275200-1676307600@www.neuquen.edu.ar
SUMMARY:Período Marzo-Diciembre (Inicial\, Primario) | Inicio Período Lectivo (*)
DESCRIPTION:13/02 | Período Marzo-Diciembre (Inicial\, Primario) | Inicio Período Lectivo (*) |\n*Período Lectivo\nLapso por el cual se desarrolla el término lectivo y las actividades propias del quehacer institucional\, previas\, posteriores a dicho termino\, a los que la/el docente cualquiera sea su situación de revista debe obligatoriamente asistir. \n  \nVer más info: \nCES – Calendario Escolar Situado \n \n 
URL:https://www.neuquen.edu.ar/event/periodo-marzo-diciembre-inicial-primario-inicio-periodo-lectivo/
CATEGORIES:Agenda
END:VEVENT
BEGIN:VEVENT
DTSTART;TZID=America/Argentina/Cordoba:20230207T080000
DTEND;TZID=America/Argentina/Cordoba:20230207T170000
DTSTAMP:20260421T084443
CREATED:20230201T155002Z
LAST-MODIFIED:20230201T155002Z
UID:31260-1675756800-1675789200@www.neuquen.edu.ar
SUMMARY:Período Febrero – Febrero (Secundario) | Inicio Período Lectivo (*)
DESCRIPTION:07/02 | Período Febrero – Febrero (Secundario) | Inicio Período Lectivo (*)\nPeríodo Lectivo\nLapso por el cual se desarrolla el término lectivo y las actividades propias del quehacer institucional\, previas\, posteriores a dicho termino\, a los que la/el docente cualquiera sea su situación de revista debe obligatoriamente asistir. \n  \nVer más info: \nCES – Calendario Escolar Situado \n \n 
URL:https://www.neuquen.edu.ar/event/periodo-febrero-febrero-secundario-inicio-periodo-lectivo/
CATEGORIES:Agenda
END:VEVENT
BEGIN:VEVENT
DTSTART;TZID=America/Argentina/Cordoba:20230206T080000
DTEND;TZID=America/Argentina/Cordoba:20230206T170000
DTSTAMP:20260421T084443
CREATED:20230201T153443Z
LAST-MODIFIED:20230201T153810Z
UID:31258-1675670400-1675702800@www.neuquen.edu.ar
SUMMARY:Período Febrero – Marzo (Superior) | Inicio Período Escolar (*)
DESCRIPTION:06/02 | Período Febrero – Marzo (Superior) | Inicio Período Escolar (*)\nPeríodo Escolar\nTiempo durante el cual se desarrolla el Ciclo lectivo y las actividades previas y posteriores a este\, para el logro de los objetivos educacionales. \nVer más info: \nCES – Calendario Escolar Situado \n \n 
URL:https://www.neuquen.edu.ar/event/periodo-febrero-marzo-superior-inicio-periodo-escolar/
CATEGORIES:Agenda
END:VEVENT
BEGIN:VEVENT
DTSTART;TZID=America/Argentina/Cordoba:20230206T080000
DTEND;TZID=America/Argentina/Cordoba:20230206T170000
DTSTAMP:20260421T084443
CREATED:20230201T142135Z
LAST-MODIFIED:20230201T165147Z
UID:31245-1675670400-1675702800@www.neuquen.edu.ar
SUMMARY:Período Febrero – Diciembre (Inicial\, Primario) | Inicio Término Lectivo (*)
DESCRIPTION:06/02 | Período Febrero – Diciembre (Inicial\, Primario) | Inicio Término Lectivo (*)\n*Término Lectivo\nPeríodo comprendido entre el inicio de clases y la finalización de las actividades programadas para el logro de los objetivos de enseñanza y aprendizaje del año escolar. \nVer más info: \nCES – Calendario Escolar Situado \n \n 
URL:https://www.neuquen.edu.ar/event/periodo-febrero-diciembre-inicial-primario-inicio-termino-lectivo/
CATEGORIES:Agenda
END:VEVENT
BEGIN:VEVENT
DTSTART;TZID=America/Argentina/Cordoba:20230206T080000
DTEND;TZID=America/Argentina/Cordoba:20230206T170000
DTSTAMP:20260421T084443
CREATED:20230201T140727Z
LAST-MODIFIED:20230201T153307Z
UID:31243-1675670400-1675702800@www.neuquen.edu.ar
SUMMARY:Período Febrero – Febrero (Secundario) | Inicio Período Escolar (*)
DESCRIPTION:06/02 | Período Febrero – Febrero (Secundario) | Inicio Período Escolar (*) \nPeríodo Escolar*\nTiempo durante el cual se desarrolla el Ciclo lectivo y las actividades previas y posteriores a este\, para el logro de los objetivos educacionales. \nVer más info: \nCES – Calendario Escolar Situado \n \n 
URL:https://www.neuquen.edu.ar/event/periodo-febrero-febrero-secundario-inicio-periodo-escolar/
CATEGORIES:Agenda
END:VEVENT
BEGIN:VEVENT
DTSTART;TZID=America/Argentina/Cordoba:20230206T080000
DTEND;TZID=America/Argentina/Cordoba:20230206T170000
DTSTAMP:20260421T084443
CREATED:20230201T135555Z
LAST-MODIFIED:20230201T165140Z
UID:31241-1675670400-1675702800@www.neuquen.edu.ar
SUMMARY:Período Marzo-Diciembre (Inicial\, Primario) | Inicio Período Escolar (*)
DESCRIPTION:06/02 | Período Marzo-Diciembre (Inicial\, Primario) | Inicio Período Escolar (*)\n  \n*Período Escolar\nTiempo durante el cual se desarrolla el Ciclo lectivo y las actividades previas y posteriores a este\, para el logro de los objetivos educacionales. \nVer más info: \nCES – Calendario Escolar Situado
URL:https://www.neuquen.edu.ar/event/periodo-marzo-diciembre-inicial-primario-inicio-periodo-escolar/
CATEGORIES:Agenda
END:VEVENT
BEGIN:VEVENT
DTSTART;TZID=America/Argentina/Cordoba:20221201T190000
DTEND;TZID=America/Argentina/Cordoba:20221201T220000
DTSTAMP:20260421T084443
CREATED:20221129T140002Z
LAST-MODIFIED:20221129T140002Z
UID:30351-1669921200-1669932000@www.neuquen.edu.ar
SUMMARY:Concierto Escuela de la Confluencia ESMN
DESCRIPTION:
URL:https://www.neuquen.edu.ar/event/concierto-escuela-de-la-confluencia-esmn/
CATEGORIES:Agenda
ATTACH;FMTTYPE=image/jpeg:https://www.neuquen.edu.ar/wp-content/uploads/2022/11/WhatsApp-Image-2022-11-29-at-10.40.13.jpeg
END:VEVENT
BEGIN:VEVENT
DTSTART;TZID=America/Argentina/Cordoba:20221129T090000
DTEND;TZID=America/Argentina/Cordoba:20221129T110000
DTSTAMP:20260421T084443
CREATED:20221124T130401Z
LAST-MODIFIED:20221124T130401Z
UID:30242-1669712400-1669719600@www.neuquen.edu.ar
SUMMARY:Gestión de Emociones en el ámbito laboral
DESCRIPTION:Más Info:  \nhttps://www.neuquen.edu.ar/gestionemociones/
URL:https://www.neuquen.edu.ar/event/gestion-de-emociones-en-el-ambito-laboral/
CATEGORIES:Agenda
ATTACH;FMTTYPE=image/jpeg:https://www.neuquen.edu.ar/wp-content/uploads/2022/11/WhatsApp-Image-2022-11-24-at-09.52.14.jpeg
END:VEVENT
BEGIN:VEVENT
DTSTART;TZID=America/Argentina/Cordoba:20221129T083000
DTEND;TZID=America/Argentina/Cordoba:20221129T173000
DTSTAMP:20260421T084443
CREATED:20221114T162855Z
LAST-MODIFIED:20221114T162855Z
UID:30159-1669710600-1669743000@www.neuquen.edu.ar
SUMMARY:Formación de Referentes Escolares ESI
DESCRIPTION:
URL:https://www.neuquen.edu.ar/event/formacion-de-referentes-escolares-esi-3/
CATEGORIES:Agenda
ATTACH;FMTTYPE=image/jpeg:https://www.neuquen.edu.ar/wp-content/uploads/2022/11/placa-referentes-escolares-esi-4.jpg
END:VEVENT
BEGIN:VEVENT
DTSTART;TZID=America/Argentina/Cordoba:20221124T083000
DTEND;TZID=America/Argentina/Cordoba:20221124T160000
DTSTAMP:20260421T084443
CREATED:20221114T151223Z
LAST-MODIFIED:20221114T151223Z
UID:30145-1669278600-1669305600@www.neuquen.edu.ar
SUMMARY:CAPACITACIÓN “EL GÉNERO Y LA PATRIA”
DESCRIPTION:
URL:https://www.neuquen.edu.ar/event/capacitacion-el-genero-y-la-patria/
CATEGORIES:Agenda
ATTACH;FMTTYPE=image/jpeg:https://www.neuquen.edu.ar/wp-content/uploads/2022/11/placa-el-genero-de-la-patria.jpg
END:VEVENT
BEGIN:VEVENT
DTSTART;TZID=America/Argentina/Cordoba:20221124T080000
DTEND;TZID=America/Argentina/Cordoba:20221205T170000
DTSTAMP:20260421T084443
CREATED:20221114T161012Z
LAST-MODIFIED:20221114T161012Z
UID:30148-1669276800-1670259600@www.neuquen.edu.ar
SUMMARY:Ley Micaela en Educación
DESCRIPTION:
URL:https://www.neuquen.edu.ar/event/ley-micaela-en-educacion/
CATEGORIES:Agenda
ATTACH;FMTTYPE=image/jpeg:https://www.neuquen.edu.ar/wp-content/uploads/2022/11/WhatsApp-Image-2022-11-10-at-13.50.53.jpeg
END:VEVENT
BEGIN:VEVENT
DTSTART;TZID=America/Argentina/Cordoba:20221123T083000
DTEND;TZID=America/Argentina/Cordoba:20221123T173000
DTSTAMP:20260421T084443
CREATED:20221114T162749Z
LAST-MODIFIED:20221114T162749Z
UID:30157-1669192200-1669224600@www.neuquen.edu.ar
SUMMARY:Formación de Referentes Escolares ESI
DESCRIPTION:
URL:https://www.neuquen.edu.ar/event/formacion-de-referentes-escolares-esi-2/
CATEGORIES:Agenda
ATTACH;FMTTYPE=image/jpeg:https://www.neuquen.edu.ar/wp-content/uploads/2022/11/placa-referentes-escolares-esi-4.jpg
END:VEVENT
BEGIN:VEVENT
DTSTART;TZID=America/Argentina/Cordoba:20221118T180000
DTEND;TZID=America/Argentina/Cordoba:20221118T210000
DTSTAMP:20260421T084443
CREATED:20221114T161943Z
LAST-MODIFIED:20221114T161943Z
UID:30152-1668794400-1668805200@www.neuquen.edu.ar
SUMMARY:La educación física en la actualidad y la relación con el derecho
DESCRIPTION:
URL:https://www.neuquen.edu.ar/event/la-educacion-fisica-en-la-actualidad-y-la-relacion-con-el-derecho/
CATEGORIES:Agenda
ATTACH;FMTTYPE=image/jpeg:https://www.neuquen.edu.ar/wp-content/uploads/2022/11/Flyer_La-Educacion-fisica-en-la-actualidad-y-la-rel.-1.jpg
END:VEVENT
BEGIN:VEVENT
DTSTART;TZID=America/Argentina/Cordoba:20221109T100000
DTEND;TZID=America/Argentina/Cordoba:20221109T160000
DTSTAMP:20260421T084443
CREATED:20221103T143931Z
LAST-MODIFIED:20221103T143931Z
UID:30078-1667988000-1668009600@www.neuquen.edu.ar
SUMMARY:Encuentro Provincial de Educadores «construyendo redes\, fortaleciendo vínculos»
DESCRIPTION:
URL:https://www.neuquen.edu.ar/event/encuentro-provincial-de-educadores-construyendo-redes-fortaleciendo-vinculos/
CATEGORIES:Agenda
ATTACH;FMTTYPE=image/jpeg:https://www.neuquen.edu.ar/wp-content/uploads/2022/11/Placa-Encuentro-Construyendo-redes__Placa.jpg
END:VEVENT
BEGIN:VEVENT
DTSTART;TZID=America/Argentina/Cordoba:20221107T083000
DTEND;TZID=America/Argentina/Cordoba:20221108T180000
DTSTAMP:20260421T084443
CREATED:20221004T171748Z
LAST-MODIFIED:20221004T171748Z
UID:29454-1667809800-1667930400@www.neuquen.edu.ar
SUMMARY:Promoción de Actividad Física a partir del análisis de las habilidades motrices y la condición física en el marco de Entornos Escolares Saludables (Zapala)
DESCRIPTION:La capacitación se replicará en Rincón de los Sauces\, Centenario y Zapala. \nEstá destinada a estudiantes y profesores de Educación Física de la provincia. \n\n\n\nLa capacitación se realizará en una modalidad combinada (presencial y virtual) con una duración de 38h reloj. \n\n\n7 y 8 de noviembre de 8:30 a 18 h.\n\n\nInstancia presencial: Lugar a confirmar.\n\nInscripción\n\n\nMás info: https://www.neuquen.edu.ar/educacion-fisica/ \n  \n\n 
URL:https://www.neuquen.edu.ar/event/promocion-de-actividad-fisica-a-partir-del-analisis-de-las-habilidades-motrices-y-la-condicion-fisica-en-el-marco-de-entornos-escolares-saludables-zapala/
CATEGORIES:Agenda
ATTACH;FMTTYPE=image/jpeg:https://www.neuquen.edu.ar/wp-content/uploads/2022/10/02-Flyer-edu-fisica-Post_Zapala-scaled.jpg
END:VEVENT
BEGIN:VEVENT
DTSTART;TZID=America/Argentina/Cordoba:20221101T080000
DTEND;TZID=America/Argentina/Cordoba:20221116T170000
DTSTAMP:20260421T084443
CREATED:20221017T130148Z
LAST-MODIFIED:20221017T130148Z
UID:29766-1667289600-1668618000@www.neuquen.edu.ar
SUMMARY:Formacíon de Referentes Ambientales Distrito X
DESCRIPTION:
URL:https://www.neuquen.edu.ar/event/formacion-de-referentes-ambientales-distrito-x/
CATEGORIES:Agenda
ATTACH;FMTTYPE=image/jpeg:https://www.neuquen.edu.ar/wp-content/uploads/2022/10/WhatsApp-Image-2022-10-17-at-09.35.23-1.jpeg
END:VEVENT
BEGIN:VEVENT
DTSTART;TZID=America/Argentina/Cordoba:20221028T093000
DTEND;TZID=America/Argentina/Cordoba:20221028T153000
DTSTAMP:20260421T084443
CREATED:20221021T130758Z
LAST-MODIFIED:20221021T130758Z
UID:29880-1666949400-1666971000@www.neuquen.edu.ar
SUMMARY:Formación de Referentes en Convivencia Escolar 2022
DESCRIPTION:
URL:https://www.neuquen.edu.ar/event/formacion-de-referentes-en-convivencia-escolar-2022/
CATEGORIES:Agenda
ATTACH;FMTTYPE=image/jpeg:https://www.neuquen.edu.ar/wp-content/uploads/2022/10/IMG-20221021-WA0011.jpg
END:VEVENT
BEGIN:VEVENT
DTSTART;TZID=America/Argentina/Cordoba:20221028T080000
DTEND;TZID=America/Argentina/Cordoba:20221028T170000
DTSTAMP:20260421T084443
CREATED:20221017T130530Z
LAST-MODIFIED:20221017T133919Z
UID:29769-1666944000-1666976400@www.neuquen.edu.ar
SUMMARY:Formacíon de Referentes Ambientales Distrito VII
DESCRIPTION:
URL:https://www.neuquen.edu.ar/event/formacion-de-referentes-ambientales-distrito-vii/
CATEGORIES:Agenda
ATTACH;FMTTYPE=image/jpeg:https://www.neuquen.edu.ar/wp-content/uploads/2022/10/WhatsApp-Image-2022-10-17-at-09.35.23.jpeg
END:VEVENT
BEGIN:VEVENT
DTSTART;TZID=America/Argentina/Cordoba:20221022T120000
DTEND;TZID=America/Argentina/Cordoba:20221022T200000
DTSTAMP:20260421T084443
CREATED:20221017T130652Z
LAST-MODIFIED:20221017T134105Z
UID:29772-1666440000-1666468800@www.neuquen.edu.ar
SUMMARY:Encuentro de Ajedrez en el Paseo de la Costa
DESCRIPTION:
URL:https://www.neuquen.edu.ar/event/encuentro-de-ajedrez-en-el-paseo-de-la-costa/
CATEGORIES:Agenda
ATTACH;FMTTYPE=image/jpeg:https://www.neuquen.edu.ar/wp-content/uploads/2022/10/WhatsApp-Image-2022-10-17-at-09.58.23.jpeg
END:VEVENT
BEGIN:VEVENT
DTSTART;TZID=America/Argentina/Cordoba:20221022T100000
DTEND;TZID=America/Argentina/Cordoba:20221022T140000
DTSTAMP:20260421T084443
CREATED:20221011T152041Z
LAST-MODIFIED:20221011T152041Z
UID:29523-1666432800-1666447200@www.neuquen.edu.ar
SUMMARY:Taller Ciclismo de Montaña
DESCRIPTION:Destinado a docentes de Educación Física de Primaria. \nInscripciones a partir del 3/10 \ncentronayahue@gmail.com \n 
URL:https://www.neuquen.edu.ar/event/taller-ciclismo-de-montana/
LOCATION:Nayahue\, Bóer 1200
CATEGORIES:Agenda
ATTACH;FMTTYPE=image/jpeg:https://www.neuquen.edu.ar/wp-content/uploads/2022/10/WhatsApp-Image-2022-10-11-at-11.10.04.jpeg
END:VEVENT
BEGIN:VEVENT
DTSTART;TZID=America/Argentina/Cordoba:20221018T083000
DTEND;TZID=America/Argentina/Cordoba:20221019T180000
DTSTAMP:20260421T084443
CREATED:20221004T171621Z
LAST-MODIFIED:20221004T171621Z
UID:29451-1666081800-1666202400@www.neuquen.edu.ar
SUMMARY:Promoción de Actividad Física a partir del análisis de las habilidades motrices y la condición física en el marco de Entornos Escolares Saludables (Centenario)
DESCRIPTION:La capacitación se replicará en Rincón de los Sauces\, Centenario y Zapala. \nEstá destinada a estudiantes y profesores de Educación Física de la provincia. \n\n\n\nLa capacitación se realizará en una modalidad combinada (presencial y virtual) con una duración de 38h reloj. \n\n18 y 19 de octubre de 8:30 a 18 h.\nLa instancia presencial se realizará en la Esc. N° 358.\nInscripción\n\n\nMás info: https://www.neuquen.edu.ar/educacion-fisica/ \n  \n\n 
URL:https://www.neuquen.edu.ar/event/promocion-de-actividad-fisica-a-partir-del-analisis-de-las-habilidades-motrices-y-la-condicion-fisica-en-el-marco-de-entornos-escolares-saludables-centenario/
CATEGORIES:Agenda
ATTACH;FMTTYPE=image/jpeg:https://www.neuquen.edu.ar/wp-content/uploads/2022/10/02-Flyer-edu-fisica-Post_Cente-scaled.jpg
END:VEVENT
BEGIN:VEVENT
DTSTART;TZID=America/Argentina/Cordoba:20221015T090000
DTEND;TZID=America/Argentina/Cordoba:20221015T180000
DTSTAMP:20260421T084443
CREATED:20221011T143459Z
LAST-MODIFIED:20221011T145649Z
UID:29517-1665824400-1665856800@www.neuquen.edu.ar
SUMMARY:Las violencias en las escuelas como dolor social
DESCRIPTION:Capacitarán a docentes sobre convivencia escolar y violencias\n\n10 DE OCTUBRE DE 2022\n\nLa jornada se desarrollará en Neuquén y contará con la presencia de la Doctora en Educación Carina Kaplan\, especialista en violencias en las escuelas\, referente en educación inclusiva y mediación escolar de reconocida trayectoria nacional e internacional. \n— \nYa se encuentran abiertas las inscripciones para la jornada de capacitación docente “Violencias en la Escuelas como dolor social” que se realizará el próximo sábado 15 de octubre en la ciudad de Neuquén. \nEl encuentro forma parte del ciclo de Educación Inclusiva organizado por el Ministerio de Gobierno y Educación\, otorga puntaje CPE y está dirigido a docentes de todos los niveles y modalidades\, comunidades educativas\, abierto a familias\, estudiantes y toda la sociedad en general. \nA través de esta propuesta se busca brindar herramientas y estrategias a docentes y equipos escolares para el abordaje de distintas temáticas y problemáticas sociales que atraviesan a la escuela. \nLa capacitación se desarrollará en las instalaciones del Gimnasio de la Escuela Nº 2 ubicado en Avenida San Juan 50 (esquina Avenida Argentina)\, comenzará a las 9.00 hs y finalizará a las 16.00 hs. \nLas inscripciones se encuentran abiertas desde el día de la fecha hasta completar la capacidad del espacio. La entrada es libre y gratuita y la inscripción se realiza completando el formulario en https://forms.gle/K5V8ag7VES8UXwFZ8 \, a través del QR en flyer de difusión o al WhatsApp 2994237463. \nEn caso de superar el cupo disponible se abre una lista de espera\, quienes serán convocados en caso de contar con nuevos lugares disponibles. \nSobre la expositora \nCarina Kaplan es Doctora en Educación por la Universidad de Buenos Aires. Magíster en Ciencias Sociales y Educación por la Facultad Latinoamericana de Ciencias Sociales. Licenciada y profesora en Ciencias de la Educación por la Universidad de Buenos Aires. \nDesarrolló investigaciones sobre la violencia en la escuela y la violencia simbólica\, lo que la posicionó como referente de la educación inclusiva y mediación escolar. Posee una amplia trayectoria como asesora en organismos nacionales e internacionales en temáticas sobre desigualdad social y educativa\, políticas socioeducativas e inclusión\, formación docente y prácticas escolares\, convivencia y violencias en el ámbito educativo\, trayectorias educativas y construcción social del éxito y fracaso escolar.
URL:https://www.neuquen.edu.ar/event/las-violencias-en-las-escuelas-como-dolor-social/
LOCATION:Gimnasio Escuela N°2\, Av. San Juan N° 50
CATEGORIES:Agenda
ATTACH;FMTTYPE=image/jpeg:https://www.neuquen.edu.ar/wp-content/uploads/2022/10/WhatsApp-Image-2022-10-11-at-11.10.50.jpeg
END:VEVENT
BEGIN:VEVENT
DTSTART;TZID=America/Argentina/Cordoba:20221013T180000
DTEND;TZID=America/Argentina/Cordoba:20221013T200000
DTSTAMP:20260421T084443
CREATED:20221011T152415Z
LAST-MODIFIED:20221011T152415Z
UID:29527-1665684000-1665691200@www.neuquen.edu.ar
SUMMARY:El agua en la cuenca del Río Colorado
DESCRIPTION:
URL:https://www.neuquen.edu.ar/event/el-agua-en-la-cuenca-del-rio-colorado/
LOCATION:Zoom
CATEGORIES:Agenda
ATTACH;FMTTYPE=image/jpeg:https://www.neuquen.edu.ar/wp-content/uploads/2022/10/WhatsApp-Image-2022-10-11-at-11.09.08.jpeg
END:VEVENT
BEGIN:VEVENT
DTSTART;TZID=America/Argentina/Cordoba:20221012T083000
DTEND;TZID=America/Argentina/Cordoba:20221012T170000
DTSTAMP:20260421T084443
CREATED:20221004T170508Z
LAST-MODIFIED:20221004T170508Z
UID:29441-1665563400-1665594000@www.neuquen.edu.ar
SUMMARY:Capacitación: Ley Micaela / Ley Cielo (Distrito III)
DESCRIPTION:Se realizará la Capacitación docente “El desafío de educar con perspectiva de género en las escuelas. Ley Micaela N°27.499 y Ley Cielo N°3.250” \nLos encuentros presenciales se realizarán los días 12 y 20 de octubre en el salón de ATEN Zapala.\nLa capacitación está dirigida a supervisores y supervisoras\, equipos directivos y docentes de escuelas públicas y privadas de todos los niveles y modalidades del Distrito III. \nInscripciones: https://forms.gle/187ytuRryFgK5cKL6
URL:https://www.neuquen.edu.ar/event/capacitacion-ley-micaela-ley-cielo-distrito-iii/
CATEGORIES:Agenda
ATTACH;FMTTYPE=image/jpeg:https://www.neuquen.edu.ar/wp-content/uploads/2022/10/WhatsApp-Image-2022-10-04-at-12.35.30-1.jpeg
END:VEVENT
BEGIN:VEVENT
DTSTART;TZID=America/Argentina/Cordoba:20221011T090000
DTEND;TZID=America/Argentina/Cordoba:20221011T180000
DTSTAMP:20260421T084443
CREATED:20221004T184839Z
LAST-MODIFIED:20221004T184839Z
UID:29459-1665478800-1665511200@www.neuquen.edu.ar
SUMMARY:Jornada de Lecturas y Lectores
DESCRIPTION:55 Aniversario CeDIE \nMartes 11/10 de 9 a 16hs \nAuditorio CPE
URL:https://www.neuquen.edu.ar/event/jornada-de-lecturas-y-lectores/
CATEGORIES:Agenda
ATTACH;FMTTYPE=image/jpeg:https://www.neuquen.edu.ar/wp-content/uploads/2022/10/4465c509-f834-47cf-ba4c-b317432ad466.jpg
END:VEVENT
END:VCALENDAR